BEGIN:VCALENDAR
VERSION:2.0
PRODID:-//wp-events-plugin.com//7.2.3.1//EN
TZID:America/Toronto
X-WR-TIMEZONE:America/Toronto
BEGIN:VEVENT
UID:2058@thrc.ca
DTSTART;TZID=America/Toronto:20250708T183000
DTEND;TZID=America/Toronto:20250708T200000
DTSTAMP:20250702T193946Z
URL:https://thrc.ca/events/the-courage-to-be-you-exploring-the-gifts-of-im
 perfection/
SUMMARY:CANCELLED - The Courage to Be You: Exploring  The Gifts of Imperfec
 tion
DESCRIPTION:\n\n\nThe Courage to Be You: Exploring The Gifts of Imperfectio
 n\nJuly 8\, 22\, &amp\; August 14\, 2025\n\n\n6:30pm-8:00pm\n\n\n\nJoin us
  as we explore Brené Brown’s The Gifts of Imperfection in this engagi
 ng book study. Together\, we’ll reflect on what it means to embrace auth
 enticity\, connection\, laughter\, play and belonging—both personally an
 d professionally. Discover how embracing these values can support your gro
 wth and deepen your impact with children\, families\, and teams. Expect th
 oughtful conversation\, meaningful insights\, and moments of joy!\n\nMust 
 attend all 3 sessions.\n\nFaciliated by: Denise MacDougal\, THRC Pedagogic
 al Mentor\n\n\n Intended Audience: Licensed Child Care Educators\, EarlyO
 N Educators\, Licensed Home Child Care Providers/Home Visitors\, Superviso
 rs\, Managers\, Support Staff\, School Board Staff \n\n\n\nIf this sessio
 n is full\, e-mail administrativeassistant@thrc.ca to be put on the waitli
 st. If a spot becomes available an email will be sent to you.  \n\n\n\n\
 nLocation:\nIn-Person\n410 Bronte St S.\nMilton\n(Tiffany Room)\n\n\nCost:
  \nProfessionals Working in Halton: $30 (includes book) \nProfessionals 
 Working in Halton: No Cost  (does not include book) \nProfessionals Not 
 Working in Halton\, &amp\; DECE: $45\n\n\nRegistration Deadline: \nJune 2
 5\, 2025\n\n\n\n\nAn email containing the Zoom link will be sent by admini
 strativeassistant@thrc.ca the day before the session. Please check your ju
 nk mail folder.
END:VEVENT
BEGIN:VTIMEZONE
TZID:America/Toronto
X-LIC-LOCATION:America/Toronto
BEGIN:DAYLIGHT
DTSTART:20250309T030000
TZOFFSETFROM:-0500
TZOFFSETTO:-0400
TZNAME:EDT
END:DAYLIGHT
END:VTIMEZONE
END:VCALENDAR