BEGIN:VCALENDAR
VERSION:2.0
PRODID:-//wp-events-plugin.com//7.2.3.1//EN
TZID:America/Toronto
X-WR-TIMEZONE:America/Toronto
BEGIN:VEVENT
UID:1965@thrc.ca
DTSTART;TZID=America/Toronto:20241022T183000
DTEND;TZID=America/Toronto:20241022T193000
DTSTAMP:20240905T171436Z
URL:https://thrc.ca/events/student-network-4/
SUMMARY:Student Network
DESCRIPTION:\n\n\nStudent Network: Exploring Resources \nTuesday\, October
  22\, 2024\n\n\n6:30pm-7:30pm\n\n\n\nJoin us at THRC's Resource Library to
  learn together\, network and build professional relationships.\n\n\n\n  
 Intended Audience: Early Childhood Educator Students \n\n\n\nIf this sess
 ion is full\, e-mail administrativeassistant@thrc.ca to be put on the wait
 list. If a spot becomes available you will receive an email.\n\n\n\n\nLoca
 tion:\nThe Halton Resource Connection\n410 Bronte Street South\, Milton\, 
 L9T 0H8\n\n\nCost: \n\n\nRegistration Deadline: \nOctober 18\, 2024\n\n\
 n\n\nClick here to view THRC's Cancellation and No Show Process
END:VEVENT
BEGIN:VTIMEZONE
TZID:America/Toronto
X-LIC-LOCATION:America/Toronto
BEGIN:DAYLIGHT
DTSTART:20240310T030000
TZOFFSETFROM:-0500
TZOFFSETTO:-0400
TZNAME:EDT
END:DAYLIGHT
END:VTIMEZONE
END:VCALENDAR