BEGIN:VCALENDAR
VERSION:2.0
PRODID:-//wp-events-plugin.com//7.2.3.1//EN
TZID:America/Toronto
X-WR-TIMEZONE:America/Toronto
BEGIN:VEVENT
UID:1801@thrc.ca
DTSTART;TZID=America/Toronto:20240127T083000
DTEND;TZID=America/Toronto:20240127T163000
DTSTAMP:20240116T174531Z
URL:https://thrc.ca/events/standard-first-aid-cpr-c-training-2/
SUMMARY:Standard First Aid & CPR-C Training
DESCRIPTION:\n\n\n\nStandard First Aid &amp\; CPR-C Training \n&nbsp\;\nJan
 uary 13\, 2024 rescheduled to January 27\, 2024\n\n\n8:30am-4:30pm\n\n\n\n
 \n\nAnyone working in the Early Learning Child Care sector must have a val
 id Standard First Aid certification\, including infant and child cardiopul
 monary resuscitation (CPR)\, as noted in the Child Care and Early Years Ac
 t (CCEYA).\n\nThis session has an online portion that takes 4-6 hours and 
 must be completed prior to attending the Saturday\, January 13th in-person
  session.\n\nThe online portion can only be completed on a computer or lap
 top. The link to access the online component will be emailed to you one we
 ek prior to the training date.\n\nFacilitated by: Workplace Medical Corpor
 ation\n\nIntended Audience: Licensed Child Care Educators\, School-Age Edu
 cators\, EarlyON Educators\, Licensed Home Child Care Providers/Home Visit
 or\, Resource Consultants\, Supervisors\, Managers\, Owners\, Operators\, 
 Support Staff\, School Board Staff \n\n\n\n\nIf this session is full\, e-
 mail administrativeassistant@thrc.ca to be put on the waitlist.\n\n\n\n\n\
 n\nLocation:\nCost:\nRegistration Deadline:\n\n\nLocation change:\n\nThe H
 alton Resource Connection\n\n410 Bronte Street South\n\nResource Library (
 Located on 2nd floor)\nTHRC Member: $140\n\nNon-Member: $150\nJanuary 5\, 
 2024\nThe login information  to complete the online portion will be sent 
 through email by Workplace Medical Corp.\n\nIf you do not receive the emai
 l within a week please email ashleym@thrc.ca. Please check you junk mail a
 s well.\n\n\n
LOCATION:The Halton Resource Connection\, 410 Bronte Street South\, Milton\
 , Ontario\, L9T 0H8\, Canada
X-APPLE-STRUCTURED-LOCATION;VALUE=URI;X-ADDRESS=410 Bronte Street South\, M
 ilton\, Ontario\, L9T 0H8\, Canada;X-APPLE-RADIUS=100;X-TITLE=The Halton R
 esource Connection:geo:0,0
END:VEVENT
BEGIN:VTIMEZONE
TZID:America/Toronto
X-LIC-LOCATION:America/Toronto
BEGIN:STANDARD
DTSTART:20231105T010000
TZOFFSETFROM:-0400
TZOFFSETTO:-0500
TZNAME:EST
END:STANDARD
END:VTIMEZONE
END:VCALENDAR