BEGIN:VCALENDAR
VERSION:2.0
PRODID:-//wp-events-plugin.com//7.2.3.1//EN
TZID:America/Toronto
X-WR-TIMEZONE:America/Toronto
BEGIN:VEVENT
UID:2088@thrc.ca
DTSTART;TZID=America/Toronto:20250726T083000
DTEND;TZID=America/Toronto:20250726T163000
DTSTAMP:20250722T185709Z
URL:https://thrc.ca/events/standard-first-aid-cpr-aed-recertification-one-
 day/
SUMMARY:CANCELLED - Standard First Aid/CPR/AED Recertification - One Day
DESCRIPTION:\n\n\nStandard First Aid/CPR/AED Recertification Training\nSatu
 rday\, July 26\, 2025 \n\n\n8:30am-4:30pm\n\n\n\n\n\nAnyone working in th
 e Early Learning Child Care sector must have a valid Standard First Aid ce
 rtification\, including infant and child cardiopulmonary resuscitation (CP
 R)\, as noted in the Child Care and Early Years Act (CCEYA).\nThis course 
 is a recertification of the WMC 2-day Standard First Aid Course. This cour
 se teaches participants how to confidently respond to an emergency in the 
 home or workplace and provide lifesaving care until professional help arri
 ves. Training includes practical skill stations\, scenarios and written ev
 aluation.\nRequirements:\nThis course is available to participants holding
  a valid Workplace Medical Corps 2-day Standard First Aid Certificate. \n\
 n******If you are unsure if you are eligible\, please check in with us bef
 ore booking by emailing us at administrativeassistant@thrc.ca.\n\n\n\n\nFa
 cilitated by: Workplace Medical Corporation\n\n\n Intended Audience: Licen
 sed Child Care Educators\, School-Age Educators\, EarlyON Educators\, Lice
 nsed Home Child Care Providers/Home Visitor\, Resource Consultants\, Super
 visors\, Managers\, Owners\, Operators\, Support Staff\, School Board Staf
 f     \n\n\n\nIf this session is full\, e-mail administrativeassistant
 @thrc.ca to be put on the waitlist. If a spot becomes available an email w
 ill be sent to you.  \n\n\n\n\nLocation:\n410 Bronte Street S\nMilton\, 
 Ontario\n(Second Floor)\n\nCost: \nCost $100\n\nRegistration Deadline: \
 nJuly 21st\, 2025\n\n\n\n\nAn email containing your login and password wil
 l be sent by a member at Workplace Medical Corps. Please check your junk m
 ail folder.
LOCATION:410 Bronte St S\, 410 Bronte Street South\, Milton\, Ontario\, L9T
  0H8\, Canada
X-APPLE-STRUCTURED-LOCATION;VALUE=URI;X-ADDRESS=410 Bronte Street South\, M
 ilton\, Ontario\, L9T 0H8\, Canada;X-APPLE-RADIUS=100;X-TITLE=410 Bronte S
 t S:geo:0,0
END:VEVENT
BEGIN:VTIMEZONE
TZID:America/Toronto
X-LIC-LOCATION:America/Toronto
BEGIN:DAYLIGHT
DTSTART:20250309T030000
TZOFFSETFROM:-0500
TZOFFSETTO:-0400
TZNAME:EDT
END:DAYLIGHT
END:VTIMEZONE
END:VCALENDAR