BEGIN:VCALENDAR
VERSION:2.0
PRODID:-//wp-events-plugin.com//7.2.3.1//EN
TZID:America/Toronto
X-WR-TIMEZONE:America/Toronto
BEGIN:VEVENT
UID:1767@thrc.ca
DTSTART;TZID=America/Toronto:20231017T093000
DTEND;TZID=America/Toronto:20231017T110000
DTSTAMP:20231002T145158Z
URL:https://thrc.ca/events/see-share-wonder-tour-edi-truth-reconciliation-
 focus/
SUMMARY:See\, Share & Wonder Tour: EDI Truth & Reconciliation Focus
DESCRIPTION:\n\n\nSee\, Share &amp\; Wonder Tour: EDI Truth &amp\; Reconcil
 iation Focus \n\n&nbsp\;\nOctober 17\, 2023\n\n\n9:30am-11:00am\n\n\n\nJoi
 n Maple Avenue Child Care Centre in a special week of remembrance and acti
 on - Secret Path Week! From October 17th to 22nd\, families and children a
 ll across the country come together to remember the legacy of Gord Downie
  and Channie Wenjakand answer his call to action\, to “ Do Something
 ” by creating a reconciliaACTION and furthering the conversation about t
 he history of residential schools.\nIntended Audience: Licensed Child Care
  Educators\, School-Age Educators\, EarlyON Educators\, Licensed Home Chil
 d Care Providers/Home Visitor\, Supervisors\, Managers Support Staff\nIf t
 his session is full\, e-mail administrativeassistant@thrc.ca to be put on 
 the waitlist.\n\n\n\n\n\n\nLocation:\nCost:\nRegistration Deadline:\n\n\nM
 aple Avenue Regional Child Care Centre\n\n65 Maple Avenue\, Georgetown\nNo
  Cost\nOctober 13\, 2023\n\n\n\n\nClick here to view THRC's Cancellation a
 nd No Show Process
LOCATION:Maple Avenue Regional Child Care Centre\, 65 Maple Avenue\, George
 town\, Ontario\, Canada
GEO:43.6564711;-79.90934019999997
X-APPLE-STRUCTURED-LOCATION;VALUE=URI;X-ADDRESS=65 Maple Avenue\, Georgetow
 n\, Ontario\, Canada;X-APPLE-RADIUS=100;X-TITLE=Maple Avenue Regional Chil
 d Care Centre:geo:43.6564711,-79.90934019999997
END:VEVENT
BEGIN:VTIMEZONE
TZID:America/Toronto
X-LIC-LOCATION:America/Toronto
BEGIN:DAYLIGHT
DTSTART:20230312T030000
TZOFFSETFROM:-0500
TZOFFSETTO:-0400
TZNAME:EDT
END:DAYLIGHT
END:VTIMEZONE
END:VCALENDAR