BEGIN:VCALENDAR
VERSION:2.0
PRODID:-//wp-events-plugin.com//7.2.3.1//EN
TZID:America/Toronto
X-WR-TIMEZONE:America/Toronto
BEGIN:VEVENT
UID:1856@thrc.ca
DTSTART;TZID=America/Toronto:20240605T180000
DTEND;TZID=America/Toronto:20240605T200000
DTSTAMP:20240528T211452Z
URL:https://thrc.ca/events/second-step/
SUMMARY:Second Step
DESCRIPTION:\n\n\nSecond Step \n\n&nbsp\;\nJune 5 &amp\; 13\, 2024\n\n\n6:0
 0pm-8:00pm\n\n\n\nSecond Step® is a researched based program\, which prov
 ides educators with an easy-to-implement\, engaging way to teach social-em
 otional skills and concepts. \nIn these two sessions you will have an opp
 ortunity to learn about the benefits of social and emotional learning for 
 children\, a well as having the opportunity to explore the Second Step® t
 hrough hands on experiences. \nParticipants are expected to attend both se
 ssions. \nFacilitated by: Denise MacDougal\, Pedagogical Leader\nIntended
  Audience: Licensed Child Care Educators &amp\; Licensed Home Child Care P
 roviders working with children from preschool to kindergarten.\nSecond Ste
 p kits are available to borrow at the Resource Library to implement in you
 r program.\nFor the health and comfort of everyone\, please help to achiev
 e a scent reduced environment and avoid the use of scented products.\nIf t
 his session is full\, e-mail administrativeassistant@thrc.ca to be put on 
 the waitlist.\n\n\n\n\n\n\nLocation:\nCost:\nRegistration Deadline:\n\n\nT
 he Halton Resource Connection\n\n410 Bronte Street South\, Milton\n\nTHRC 
 Boardroom (Located on 2nd Floor)\n\n&nbsp\;\nNo Cost\nMay 28\,  2024\n\n\
 n\n\nClick here to view THRC's Cancellation and No Show Process
LOCATION:The Halton Resource Connection\, 410 Bronte St.\, S\, Milton\, Can
 ada
GEO:43.5000363;-79.87680469999998
X-APPLE-STRUCTURED-LOCATION;VALUE=URI;X-ADDRESS=410 Bronte St.\, S\, Milton
 \, Canada;X-APPLE-RADIUS=100;X-TITLE=The Halton Resource Connection:geo:43
 .5000363,-79.87680469999998
END:VEVENT
BEGIN:VTIMEZONE
TZID:America/Toronto
X-LIC-LOCATION:America/Toronto
BEGIN:DAYLIGHT
DTSTART:20240310T030000
TZOFFSETFROM:-0500
TZOFFSETTO:-0400
TZNAME:EDT
END:DAYLIGHT
END:VTIMEZONE
END:VCALENDAR