BEGIN:VCALENDAR
VERSION:2.0
PRODID:-//wp-events-plugin.com//7.2.3.1//EN
TZID:America/Toronto
X-WR-TIMEZONE:America/Toronto
BEGIN:VEVENT
UID:2056@thrc.ca
DTSTART;TZID=America/Toronto:20250530T100000
DTEND;TZID=America/Toronto:20250530T123000
DTSTAMP:20250508T185452Z
URL:https://thrc.ca/events/school-age-educator-drop-in-2/
SUMMARY:School Age Educator Drop In
DESCRIPTION:\n\n\nSchool Age Educator Drop In \nFriday\, May 30th\, 2025\n
 \n\n10:00am-12:30pm\n\n\n\n\nJoin us for a dynamic and informal profession
 al learning session and drop-in designed specifically for school age educa
 tors! This is your opportunity to connect with peers\, share experiences\,
  explore ideas\, and engage in meaningful conversations that support your 
 daily practice. Whether you're seeking fresh inspiration\, looking to prob
 lem-solve challenges\, or simply wanting to learn alongside others in the 
 field\, this flexible and collaborative space is for you.\n\n\nCome with q
 uestions\, reflections\, or just a willingness to engage—we'll explore a
 ctives that can support you in your summer fun school age programs.\n\n\n\
 n\nRegistration is required from 10:00am - 11:00am\n\n\n\n          
                       Intended Audience: School Age Educators\n
 \n\n\nIf this session is full\, e-mail administrativeassistant@thrc.ca to 
 be put on the waitlist. If a spot becomes available an email will be sent 
 to you.  \n\n\n\n\nLocation:\nThe Halton Resource Connection\n410 Bronte
  Street South\, Milton ON\nResource Library (Located on 2nd floor)\n\n\nCo
 st: \nNo Cost: Professionals Working in Licensed Programs in Halton Regio
 n\n\nCost $25: Outside Halton Region and/or Non Licensed Programs\n\nRegi
 stration Deadline: \nMay 29\, 2025\n\n\n\n\n
END:VEVENT
BEGIN:VTIMEZONE
TZID:America/Toronto
X-LIC-LOCATION:America/Toronto
BEGIN:DAYLIGHT
DTSTART:20250309T030000
TZOFFSETFROM:-0500
TZOFFSETTO:-0400
TZNAME:EDT
END:DAYLIGHT
END:VTIMEZONE
END:VCALENDAR