BEGIN:VCALENDAR
VERSION:2.0
PRODID:-//wp-events-plugin.com//7.2.3.1//EN
TZID:America/Toronto
X-WR-TIMEZONE:America/Toronto
BEGIN:VEVENT
UID:2103@thrc.ca
DTSTART;TZID=America/Toronto:20251015T133000
DTEND;TZID=America/Toronto:20251015T143000
DTSTAMP:20250829T193207Z
URL:https://thrc.ca/events/resilience-learning-community/
SUMMARY:Resilience Learning Community
DESCRIPTION:\n\n\nResilience Learning Community\nWednesday\, October 15\, 2
 025\n\n\n1:30pm - 2:30pm\n\n\n\n\nAre you seeking to cultivate resilience 
 in your work with children and families—and within yourself?\nWhether yo
 u're a past participant of Reaching IN… Reaching OUT (RIRO) or are newly
  exploring the concept of resilience\, this is your opportunity to reconne
 ct\, reflect\, and recharge.\nJoin us as we strengthen our capacity for re
 silience—together.\n\n\n\n\n Intended Audience: Licensed Child Care Educ
 ators\, EarlyON Educators\, Licensed Home Child Care Providers/Home Visito
 rs\, Supervisors\, Managers\, Support Staff\n\nStandards of Practice: Curr
 iculum &amp\; Pedagogy \n\n\n\nIf this session is full\, e-mail administr
 ativeassistant@thrc.ca to be put on the waitlist. If a spot becomes availa
 ble an email will be sent to you.  \n\n\n\n\nLocation:\n\n\nCost: \nNo 
 Cost: Professionals Working in Licensed Programs in Halton Region\n\nCost 
 $25: Outside Halton Region and/or Non Licensed Programs\n\nRegistration De
 adline: \nOctober 14\, 2025\n\n\n\n\nAn email containing the Zoom link wi
 ll be sent by administrativeassistant@thrc.ca the day before the session. 
 Please check your junk mail folder.\nClick here to view THRC's Cancellatio
 n and No Show Process
END:VEVENT
BEGIN:VTIMEZONE
TZID:America/Toronto
X-LIC-LOCATION:America/Toronto
BEGIN:DAYLIGHT
DTSTART:20250309T030000
TZOFFSETFROM:-0500
TZOFFSETTO:-0400
TZNAME:EDT
END:DAYLIGHT
END:VTIMEZONE
END:VCALENDAR