BEGIN:VCALENDAR
VERSION:2.0
PRODID:-//wp-events-plugin.com//7.2.3.1//EN
TZID:America/Toronto
X-WR-TIMEZONE:America/Toronto
BEGIN:VEVENT
UID:2093@thrc.ca
DTSTART;TZID=America/Toronto:20251023T183000
DTEND;TZID=America/Toronto:20251023T203000
DTSTAMP:20250829T134624Z
URL:https://thrc.ca/events/reframing-behaviour-through-the-lens-of-self-re
 gulation/
SUMMARY:Reframing Behaviour Through the Lens of Self-Regulation
DESCRIPTION:\n\n\nReframing Behaviour Through the Lens of Self-Regulation\n
 Thursday October 23\, 2025\n\n\n6:30pm-8:30pm\n\n\n\n\n\nWorkshop Title: R
 eframing Behaviour Through the Lens of Self-Regulation\n\n\n\n\nReframing 
 allows us to pause\, reflect\, and ask ourselves why certain behaviours 
 may be occurring. By viewing situations from multiple perspectives\, we ca
 n reduce stress and foster supportive\, trusting relationships with the ch
 ildren in our care.\n\n&nbsp\;\n\n\n\n\nIn this interactive session\, we w
 ill:\n\n\n\n\n·         Explore the importance of Educator Self-
 Regulation and Wellbeing- Understanding that caring for ourselves enables
  us to better care for others.\n\n\n\n\nReflect on behaviour as a form of 
 communication- Gain insight into what may be happening in a child’s bra
 in when they “flip their lid\,” and how this impacts their actions.\n\
 n&nbsp\;\n\n\n\n\n·         Discover Stuart Shanker’s 5 Steps 
 of Self-Regulation- Learn how to become a “stress detective” by ident
 ifying and reducing stressors and reframing behaviour through a self-regul
 ation lens.\n\n\n\n\nThis session will provide practical strategies and a 
 deeper understanding of behaviour\, empowering educators to respond with e
 mpathy\, insight\, and confidence.\n\n&nbsp\;\n\n\nFacilitated by: Johanna
  Dillerop\, RECE\, THRC Pedagogical Team\n\n\n Intended Audience: Licensed
  Home Child Care Providers/Home Visitors\n\nStandards of Practice: Curricu
 lum and Pedagogy \n\n\n\nIf this session is full\, e-mail administrativea
 ssistant@thrc.ca to be put on the waitlist. If a spot becomes available an
  email will be sent to you.  \n\n\n\n\nLocation:\n\n\nCost: \nProfessio
 nals Working in Licensed Programs in Halton Region: No Cost\n\nOutside Hal
 ton Region and/or Non Licensed Programs: $25\n\nRegistration Deadline: \n
 October 22\, 2025\n\n\n\n\nAn email containing the Zoom link will be sent 
 by administrativeassistant@thrc.ca the day before the session. Please chec
 k your junk mail folder.\nClick here to view THRC's Cancellation and No Sh
 ow Process
END:VEVENT
BEGIN:VTIMEZONE
TZID:America/Toronto
X-LIC-LOCATION:America/Toronto
BEGIN:DAYLIGHT
DTSTART:20250309T030000
TZOFFSETFROM:-0500
TZOFFSETTO:-0400
TZNAME:EDT
END:DAYLIGHT
END:VTIMEZONE
END:VCALENDAR