BEGIN:VCALENDAR
VERSION:2.0
PRODID:-//wp-events-plugin.com//7.2.3.1//EN
TZID:America/Toronto
X-WR-TIMEZONE:America/Toronto
BEGIN:VEVENT
UID:1756@thrc.ca
DTSTART;TZID=America/Toronto:20231025T183000
DTEND;TZID=America/Toronto:20231025T200000
DTSTAMP:20230824T152110Z
URL:https://thrc.ca/events/reflecting-on-how-does-learning-happen/
SUMMARY:Reflecting on How Does Learning Happen?
DESCRIPTION:\n\n\nReflecting on How Does Learning Happen? \n\n&nbsp\;\nOcto
 ber 25\, 2023\n\n\n6:30pm-8:00pm\n\n\n\nOntario’s Pedagogy for the Early
  Years: How Does Learning Happen? connects us all as Early Childhood Educ
 ators.\nCome ready to share and hear how other professionals embed HDHL? i
 n their practice\, how it supports the children in your programs and your 
 view of children as competent and capable.\nLet’s come together to discu
 ss and reflect on HDLH? and what it means to you in your work.\nFacilitat
 ed by: Liz Reddy\, Quality First Consultant\nIntended Audience: Licensed C
 hild Care Educators\, School-Age Educators\, EarlyON Educators\, Licensed 
 Home Child Care Providers/Home Visitor\nIf this session is full\, e-mail a
 dministrativeassistant@thrc.ca to be put on the waitlist.\n\n\n\n\n\n\nLoc
 ation:\nCost:\nRegistration Deadline:\n\n\nZoom Meeting\n\n&nbsp\;\nNo Cos
 t\nOctober 24\, 2023\nYour Zoom link will be sent by ashleym@thrc.ca on th
 e day of the event\, please check your junk mail as well.\n\n\n\nClick her
 e to view THRC's Cancellation and No Show Process
END:VEVENT
BEGIN:VTIMEZONE
TZID:America/Toronto
X-LIC-LOCATION:America/Toronto
BEGIN:DAYLIGHT
DTSTART:20230312T030000
TZOFFSETFROM:-0500
TZOFFSETTO:-0400
TZNAME:EDT
END:DAYLIGHT
END:VTIMEZONE
END:VCALENDAR