BEGIN:VCALENDAR
VERSION:2.0
PRODID:-//wp-events-plugin.com//7.2.3.1//EN
TZID:America/Toronto
X-WR-TIMEZONE:America/Toronto
BEGIN:VEVENT
UID:1731@thrc.ca
DTSTART;TZID=America/Toronto:20230613T183000
DTEND;TZID=America/Toronto:20230613T200000
DTSTAMP:20230526T160959Z
URL:https://thrc.ca/events/reflecting-on-how-does-learning-for-educators/
SUMMARY:Reflecting on How Does Learning Happen? for Educators
DESCRIPTION:\n\n\n\nReflecting on How Does Learning Happen?for Educators\n\
 nJune 13\, 2023\n\n\n6:30pm-8:00pm\n\n\n\n\n\nOntario's Pedagogy for the E
 arly Years: How Does Learning Happen? connects us all as Early Childhood 
 Educators.  Come ready to share and hear how other professionals embed H
 DHL? in their practice\, how it supports the children in your programs and
  your view of children as competent and capable.\n&nbsp\;\n\nLet's come to
 gether to discuss and reflect on HDLH?  and what it means to you in your 
 work.\n\n\nFacilitated by: Liz Reddy\, Geethmi Premaratne and Amy Wilson\n
 \n&nbsp\;\n\n\nIntended Audience: Licensed Child Care Educators\, School-A
 ge Educators\, EarlyON\, Licensed Home Child Care Providers/Home Visitors\
 , Support Staff\n\n\n\n\n\n\n\nIf this session is full\, e-mail administra
 tiveassistant@thrc.ca to be put on the waitlist.\n\n&nbsp\;\n\n\nLocation:
 \nCost:\nRegistration Deadline:\n\n\nZoom Meeting\n\n&nbsp\;\nNo Cost\nJun
 e 9\, 2023\nThe Zoom link will be sent to you the day before from ashleym@
 thrc.ca please check your junk mail as well.\n\n\n
LOCATION:The Halton Resource Connection\, 410 Bronte St.\, S\, Milton\, Can
 ada
GEO:43.5000363;-79.87680469999998
X-APPLE-STRUCTURED-LOCATION;VALUE=URI;X-ADDRESS=410 Bronte St.\, S\, Milton
 \, Canada;X-APPLE-RADIUS=100;X-TITLE=The Halton Resource Connection:geo:43
 .5000363,-79.87680469999998
END:VEVENT
BEGIN:VTIMEZONE
TZID:America/Toronto
X-LIC-LOCATION:America/Toronto
BEGIN:DAYLIGHT
DTSTART:20230312T030000
TZOFFSETFROM:-0500
TZOFFSETTO:-0400
TZNAME:EDT
END:DAYLIGHT
END:VTIMEZONE
END:VCALENDAR