BEGIN:VCALENDAR
VERSION:2.0
PRODID:-//wp-events-plugin.com//7.2.3.1//EN
TZID:America/Toronto
X-WR-TIMEZONE:America/Toronto
BEGIN:VEVENT
UID:1833@thrc.ca
DTSTART;TZID=America/Toronto:20241126T183000
DTEND;TZID=America/Toronto:20241126T200000
DTSTAMP:20241121T194525Z
URL:https://thrc.ca/events/redefining-labels-2/
SUMMARY:Redefining Labels
DESCRIPTION:&nbsp\;\n\n\n\nRedefining Labels\nTuesday\, November 26\, 2024\
 n\n\n 6:30pm-8:00pm \n\n\n\nThis session will focus on the Educators int
 erested in broadening their understanding of a child beyond their “label
 ”. ROCK facilitators will look at reframing a child’s behaviour by us
 ing a strength-based approach and redefining how best they can support a c
 hild.\n\n\n\nIntended Audience: Licensed Child Care Educators\, School-Age
  Educators\, EarlyON Educators\, Licensed Home Child Care Providers/Home V
 isitor\,  Supervisors\, Managers\, Owners\, Operators\, Support Staff\, S
 chool Board Educators            \n\n\n\nIf this session is full\, 
 email administrativeassistant@thrc.ca to be added to a waitlist\, if a spo
 t becomes available you will be sent an email.\n\n\n\n\nLocation:\n\n\nCos
 t: \n\n\nRegistration Deadline: \nNovember 22\, 2024\n\n\n\n\nAn email c
 ontaining the Zoom link will be sent by administrativeassistant@thrc.ca th
 e day before the session. Please check your junk mail folder.\nClick here 
 to view THRC's Cancellation and No Show Process
END:VEVENT
BEGIN:VTIMEZONE
TZID:America/Toronto
X-LIC-LOCATION:America/Toronto
BEGIN:STANDARD
DTSTART:20241103T010000
TZOFFSETFROM:-0400
TZOFFSETTO:-0500
TZNAME:EST
END:STANDARD
END:VTIMEZONE
END:VCALENDAR