BEGIN:VCALENDAR
VERSION:2.0
PRODID:-//wp-events-plugin.com//7.2.3.1//EN
TZID:America/Toronto
X-WR-TIMEZONE:America/Toronto
BEGIN:VEVENT
UID:1956@thrc.ca
DTSTART;TZID=America/Toronto:20241107T183000
DTEND;TZID=America/Toronto:20241107T193000
DTSTAMP:20241023T185911Z
URL:https://thrc.ca/events/overview-of-autism-and-other-neurodevelopmental
 -disorders-neurodiversity/
SUMMARY:Overview of Autism and Other Neurodevelopmental Disorders/Neurodive
 rsity
DESCRIPTION:\n\n\nOverview of Autism and Other Neurodevelopmental Disorders
 /Neurodiversity \nThursday\, November 7\, 2024\n\n\n6:30pm-7:30pm\n\n\n\nG
 ain a foundational understanding of autism and other neurodevelopmental di
 sorders. Explore the concept of neurodiversity\, recognizing and celebrati
 ng the unique strengths and challenges that come with different neurodevel
 opmental profiles.\n\n\n\n  Intended Audience: Licensed Child Care Educat
 ors\, School-Age Educators\, EarlyON Educators\, Licensed Home Child Care 
 Providers/Home Visitor\,  Supervisors\, Managers\, Support Staff\, School
  Board Educators     \n\n\n\nIf this session is full\, email administra
 tiveassistant@thrc.ca to be added to a waitlist\, if a spot becomes availa
 ble you will be sent an email.\n\n\n\n\nLocation:\n\n\nCost: \n\n\nRegist
 ration Deadline: \nNovember 4\, 2024\n\n\n\n\nAn email containing the Zoo
 m link will be sent by administrativeassistant@thrc.ca the day before the 
 session. Please check your junk mail folder.\nClick here to view THRC's Ca
 ncellation and No Show Process
END:VEVENT
BEGIN:VTIMEZONE
TZID:America/Toronto
X-LIC-LOCATION:America/Toronto
BEGIN:STANDARD
DTSTART:20241103T010000
TZOFFSETFROM:-0400
TZOFFSETTO:-0500
TZNAME:EST
END:STANDARD
END:VTIMEZONE
END:VCALENDAR