BEGIN:VCALENDAR
VERSION:2.0
PRODID:-//wp-events-plugin.com//7.2.3.1//EN
TZID:America/Toronto
X-WR-TIMEZONE:America/Toronto
BEGIN:VEVENT
UID:2096@thrc.ca
DTSTART;TZID=America/Toronto:20251112T190000
DTEND;TZID=America/Toronto:20251112T200000
DTSTAMP:20251027T015830Z
URL:https://thrc.ca/events/navigating-difficult-conversations/
SUMMARY:Navigating Difficult Conversations
DESCRIPTION:\n\n\nNavigating Difficult Conversations\nWednesday\, November 
 12\, 2025\n\n\n7:00pm-8:00pm\n\n\n\n\nThis interactive session is designed
  to equip you with practical strategies for navigating challenging convers
 ations—whether you're speaking with colleagues\, families\, or administr
 ators. Discover how to communicate with clarity\, empathy\, and profession
 alism to build stronger relationships and create positive\, supportive lea
 rning environments.\nJoin us as we dive into:\n\n\n 	What makes a conversa
 tion difficult?\n 	How to manage emotions—yours and others’\n 	Tools f
 or staying grounded and effective under pressure\n 	Opportunities for refl
 ection to deepen your understanding and growth and more!\n\nLet’s turn t
 hose tough talks into meaningful moments of growth.\nFacilitated by: THRC 
 Pedagogical Mentor\n\n\n\n\n Intended Audience: Licensed Child Care Educat
 ors\, EarlyON Educators\, Licensed Home Child Care Providers/Home Visitors
 \, Supervisors\, Managers\, Support Staff\n\nStandards of Practice: Curric
 ulum &amp\; Pedagogy \n\n\n\nIf this session is full\, e-mail administrat
 iveassistant@thrc.ca to be put on the waitlist. If a spot becomes availabl
 e an email will be sent to you.  \n\n\n\n\nLocation:\n\n\nCost: \nNo Co
 st: Professionals Working in Licensed Programs in Halton Region\n\nCost $2
 5: Outside Halton Region and/or Non Licensed Programs\n\nRegistration Dead
 line: \nNovember 11\, 2025\n\n\n\n\nAn email containing the Zoom link wil
 l be sent by administrativeassistant@thrc.ca the day before the session. P
 lease check your junk mail folder.\nClick here to view THRC's Cancellation
  and No Show Process
END:VEVENT
BEGIN:VTIMEZONE
TZID:America/Toronto
X-LIC-LOCATION:America/Toronto
BEGIN:STANDARD
DTSTART:20251102T010000
TZOFFSETFROM:-0400
TZOFFSETTO:-0500
TZNAME:EST
END:STANDARD
END:VTIMEZONE
END:VCALENDAR