BEGIN:VCALENDAR
VERSION:2.0
PRODID:-//wp-events-plugin.com//7.2.3.1//EN
TZID:America/Toronto
X-WR-TIMEZONE:America/Toronto
BEGIN:VEVENT
UID:1979@thrc.ca
DTSTART;TZID=America/Toronto:20250120T110000
DTEND;TZID=America/Toronto:20250120T123000
DTSTAMP:20241210T181130Z
URL:https://thrc.ca/events/mental-health-well-being-with-you-in-mind-2/
SUMMARY:Mental Health & Well-Being with You in Mind
DESCRIPTION:\n\n\nMental Health &amp\; Well-Bring with You in Mind\nMonday\
 , January 20\, 2025\n\n\n11:00am-12:30pm\n\n\n\nThis session focuses on au
 thentic conversations which involves educators to be a part of a brave spa
 ce regarding mental health and well-being in our child care environments.\
 nInsights to this conversation may include:\n\n·         Teachin
 g strategies\n\n·         Mental health &amp\; well-being resour
 ces\n\n·         Authentic practices as an educator\nFaciliated 
 by: Ryan Navitdad\n\n\n\nIntended Audience: Licensed Child Care Educators\
 , EarlyON Educators\, School Age Educators\, Licensed Home Child Care Prov
 iders/Home Visitors\, Supervisors\, Managers\, Support Staff\n\nStandards 
 of Practice: Safety\, Health &amp\; Well-Being \n\n\n\nIf this session is
  full\, e-mail administrativeassistant@thrc.ca to be put on the waitlist. 
 If a spot becomes available an email will be sent to you.  \n\n\n\n\nLoc
 ation:\nIdea Lab Kids\n1393 North Service Road East\, Unit #16\nOakville\,
  ON\n\n\nCost: \nNo Cost: Professionals Working in Halton Region\n\nCost 
 $25: Outside Halton Region\n\nRegistration Deadline: \nJanuary 17\, 2025\
 n\n\n\n\n
LOCATION:Idea Lab Kids East Oakville\, 1393 North Service Road\, East \, Oa
 kville\, Canada\, L6H 1A7\, Canada
X-APPLE-STRUCTURED-LOCATION;VALUE=URI;X-ADDRESS=1393 North Service Road\, E
 ast \, Oakville\, Canada\, L6H 1A7\, Canada;X-APPLE-RADIUS=100;X-TITLE=Ide
 a Lab Kids East Oakville:geo:0,0
END:VEVENT
BEGIN:VTIMEZONE
TZID:America/Toronto
X-LIC-LOCATION:America/Toronto
BEGIN:STANDARD
DTSTART:20241103T010000
TZOFFSETFROM:-0400
TZOFFSETTO:-0500
TZNAME:EST
END:STANDARD
END:VTIMEZONE
END:VCALENDAR