BEGIN:VCALENDAR
VERSION:2.0
PRODID:-//wp-events-plugin.com//7.2.3.1//EN
TZID:America/Toronto
X-WR-TIMEZONE:America/Toronto
BEGIN:VEVENT
UID:1896@thrc.ca
DTSTART;TZID=America/Toronto:20240827T183000
DTEND;TZID=America/Toronto:20240827T200000
DTSTAMP:20240716T160745Z
URL:https://thrc.ca/events/lets-talk-self-reg-for-educators-2/
SUMMARY:Let's Talk Self Reg for Educators
DESCRIPTION:\n\n\nLet's Talk Self Reg for Educators\nTuesday\, August 27\, 
 2024\n\n\n6:30pm-8:00pm\n\n\n\nIn this session we will come together for a
  discussion about what self-regulation is\, look at the five steps and fiv
 e domains of self-regulation\, what this looks like in practice and why it
  is so important to understand and support our own self-regulation.\nFacil
 itated by: Liz Reddy &amp\; Amanda Avraam\, THRC Staff\n\n\n\nIntended Aud
 ience: Licensed Child Care Educators\, School-Age Educators\, EarlyON Educ
 ators\, Licensed Home Child Care Providers/Home Visitor\, Supervisors\, Ma
 nagers\, Support Staff\, School Board Educators         \n\n\n\nTHRC 
 is a scent reduced space. For the health and safety of everyone\, please h
 elp to achieve a scent reduced environment and avoid the use of scented pr
 oducts.\nIf this session is full\, e-mail administrativeassistant@thrc.ca 
 to be put on the waitlist. If a spot becomes available you will receive an
  email.\n\n\n\n\nLocation:\n5195 Harvester Road\, Unit # 16\n\nBurlington\
 , ON L7L 6E9\n\nCost: \n\n\nRegistration Deadline: \nAugust 23\, 2024\n\
 n\n\n\nClick here to view THRC's Cancellation and No Show Process
END:VEVENT
BEGIN:VTIMEZONE
TZID:America/Toronto
X-LIC-LOCATION:America/Toronto
BEGIN:DAYLIGHT
DTSTART:20240310T030000
TZOFFSETFROM:-0500
TZOFFSETTO:-0400
TZNAME:EDT
END:DAYLIGHT
END:VTIMEZONE
END:VCALENDAR