BEGIN:VCALENDAR
VERSION:2.0
PRODID:-//wp-events-plugin.com//7.2.3.1//EN
TZID:America/Toronto
X-WR-TIMEZONE:America/Toronto
BEGIN:VEVENT
UID:1779@thrc.ca
DTSTART;TZID=America/Toronto:20231114T190000
DTEND;TZID=America/Toronto:20231114T200000
DTSTAMP:20231024T155703Z
URL:https://thrc.ca/events/learning-community-for-licensed-home-providers-
 2/
SUMMARY:Learning Community for Licensed Home Providers
DESCRIPTION:\n\n\n\nLearning Community for Licensed Home Providers\n\nNovem
 ber 14\, 2023\n\n\n7:00pm-8:00pm\n\n\n\n\n\n\n\n        Are you a Lice
 nsed Home Provider?\n\nJoin the licensed home learning community to networ
 k\, collaborate and learn alongside each other. This learning community we
 lcomes providers working with mixed age groups\, looking for resources and
  ideas to provide developmentally appropriate activities and materials tha
 t you can find at home that are inexpensive and easy to prepare.\n\n\n&nbs
 p\;\nFacilitated by: Zenab Karimjee\n&nbsp\;\nIntended Audience: Licensed 
 Home Child Care Providers/Home Visitors\n\n\n\n\n\nIf this session is full
 \, e-mail administrativeassistant@thrc.ca to be put on the waitlist.\n\n\n
 \n\nLocation:\nCost:\nRegistration Deadline:\n\n\nZoom Meeting\n\n&nbsp\;\
 nNo Cost\nNovember 13\, 2023\nThe Zoom link will be sent to you the day of
  the session by ashleym@thrc.ca\n\n\n
END:VEVENT
BEGIN:VTIMEZONE
TZID:America/Toronto
X-LIC-LOCATION:America/Toronto
BEGIN:STANDARD
DTSTART:20231105T010000
TZOFFSETFROM:-0400
TZOFFSETTO:-0500
TZNAME:EST
END:STANDARD
END:VTIMEZONE
END:VCALENDAR