BEGIN:VCALENDAR
VERSION:2.0
PRODID:-//wp-events-plugin.com//7.2.3.1//EN
TZID:America/Toronto
X-WR-TIMEZONE:America/Toronto
BEGIN:VEVENT
UID:2075@thrc.ca
DTSTART;TZID=America/Toronto:20250930T190000
DTEND;TZID=America/Toronto:20250930T200000
DTSTAMP:20250811T195259Z
URL:https://thrc.ca/events/learning-community-for-licensed-home-child-care
 -providers-4/
SUMMARY:Learning Community for Licensed Home Child Care Providers
DESCRIPTION:\n\n\nLearning Community for Licensed Home Child Care Providers
  \nTuesday September 30\, 2025\n\n\n7:00pm-8:00pm\n\n\n\n    Join other 
 providers and celebrate your unique role in Early Childhood Education. Thi
 s interactive session provides a supportive space to share ideas\, resourc
 es and strategies with other professionals who share your passion for prov
 iding quality care in a home environment.\n\nFacilitated by: THRC Pedagog
 ical Team\n\n\n Intended Audience: Licensed Home Child Care Providers/Home
  Visitors\n\nStandards of Practice: Curriculum and Pedagogy \n\n\n\nIf th
 is session is full\, e-mail administrativeassistant@thrc.ca to be put on t
 he waitlist. If a spot becomes available an email will be sent to you.  
 \n\n\n\n\nLocation:\n\n\nCost: \nProfessionals Working in Licensed Progra
 ms in Halton Region: No Cost\n\nOutside Halton Region and/or Non Licensed 
 Programs: $25\n\nRegistration Deadline: \nSeptember 29\, 2025\n\n\n\n\nAn
  email containing the Zoom link will be sent by administrativeassistant@th
 rc.ca the day before the session. Please check your junk mail folder.\nCli
 ck here to view THRC's Cancellation and No Show Process
END:VEVENT
BEGIN:VTIMEZONE
TZID:America/Toronto
X-LIC-LOCATION:America/Toronto
BEGIN:DAYLIGHT
DTSTART:20250309T030000
TZOFFSETFROM:-0500
TZOFFSETTO:-0400
TZNAME:EDT
END:DAYLIGHT
END:VTIMEZONE
END:VCALENDAR