BEGIN:VCALENDAR
VERSION:2.0
PRODID:-//wp-events-plugin.com//7.2.3.1//EN
TZID:America/Toronto
X-WR-TIMEZONE:America/Toronto
BEGIN:VEVENT
UID:2100@thrc.ca
DTSTART;TZID=America/Toronto:20251127T190000
DTEND;TZID=America/Toronto:20251127T200000
DTSTAMP:20250829T164505Z
URL:https://thrc.ca/events/learning-community-for-infant-toddler-educators
 -6/
SUMMARY:Learning Community for Infant/Toddler Educators
DESCRIPTION:\n\n\nLearning Community for Infant/Toddler Educators \nThursda
 y\, November 27\, 2025\n\n\n7:00pm-8:00pm\n\n\n\n\nInfant and Toddler Lear
 ning Community: Connect\, Share and Grow\nJoin fellow educators who share 
 your passion for supporting the youngest learners. This interactive sessio
 n is designed to share best practice strategies and resources to celebrate
  the impactful work you do everyday.\n\n\n\nFacilitated by: Denise MacDoug
 al\, Pedagogical Mentors\n\n\n        Intended Audience: Licensed Chil
 d Care Educators\, EarlyON Educators\, Licensed Home Child Care Providers/
 Home Visitors\, Supervisors\, Managers\, Support Staff\n\nStandards of Pra
 ctice: Curriculum &amp\; Pedagogy \n\n\n\nIf this session is full\, e-mai
 l administrativeassistant@thrc.ca to be put on the waitlist. If a spot bec
 omes available an email will be sent to you.  \n\n\n\n\nLocation:\n\n\nC
 ost: \nNo Cost: Professionals Working in Licensed Programs in Halton Regi
 on\n\nCost $25: Outside Halton Region and/or Non Licensed Programs\n\nRegi
 stration Deadline: \nNovember 26\, 2025\n\n\n\n\nAn email containing the 
 Zoom link will be sent by administrativeassistant@thrc.ca the day before t
 he session. Please check your junk mail folder.
END:VEVENT
BEGIN:VTIMEZONE
TZID:America/Toronto
X-LIC-LOCATION:America/Toronto
BEGIN:STANDARD
DTSTART:20251102T010000
TZOFFSETFROM:-0400
TZOFFSETTO:-0500
TZNAME:EST
END:STANDARD
END:VTIMEZONE
END:VCALENDAR