BEGIN:VCALENDAR
VERSION:2.0
PRODID:-//wp-events-plugin.com//7.2.3.1//EN
TZID:America/Toronto
X-WR-TIMEZONE:America/Toronto
BEGIN:VEVENT
UID:2063@thrc.ca
DTSTART;TZID=America/Toronto:20250806T190000
DTEND;TZID=America/Toronto:20250806T200000
DTSTAMP:20250610T014459Z
URL:https://thrc.ca/events/learning-community-for-infant-toddler-educators
 -5/
SUMMARY:Learning Community for Infant/Toddler Educators
DESCRIPTION:\n\n\nLearning Community for Infant/Toddler Educators \nWednesd
 ay\, August 6\, 2025\n\n\n7:00pm-8:00pm\n\n\n\n\nInfant and Toddler Learni
 ng Community: Connect\, Share and Grow\nJoin fellow educators who share yo
 ur passion for supporting the youngest learners. This interactive session 
 is designed to share best practice strategies and resources to celebrate t
 he impactful work you do everyday.\n\n\n\nFacilitated by: Denise MacDougal
 \, Pedagogical Mentors\n\n\n        Intended Audience: Licensed Child 
 Care Educators\, EarlyON Educators\, Licensed Home Child Care Providers/Ho
 me Visitors\, Supervisors\, Managers\, Support Staff\n\nStandards of Pract
 ice: Curriculum &amp\; Pedagogy \n\n\n\nIf this session is full\, e-mail 
 administrativeassistant@thrc.ca to be put on the waitlist. If a spot becom
 es available an email will be sent to you.  \n\n\n\n\nLocation:\n\n\nCos
 t: \nNo Cost: Professionals Working in Licensed Programs in Halton Region
 \n\nCost $25: Outside Halton Region and/or Non Licensed Programs\n\nRegist
 ration Deadline: \nAugust 5\, 2025\n\n\n\n\nAn email containing the Zoom 
 link will be sent by administrativeassistant@thrc.ca the day before the se
 ssion. Please check your junk mail folder.
END:VEVENT
BEGIN:VTIMEZONE
TZID:America/Toronto
X-LIC-LOCATION:America/Toronto
BEGIN:DAYLIGHT
DTSTART:20250309T030000
TZOFFSETFROM:-0500
TZOFFSETTO:-0400
TZNAME:EDT
END:DAYLIGHT
END:VTIMEZONE
END:VCALENDAR