BEGIN:VCALENDAR
VERSION:2.0
PRODID:-//wp-events-plugin.com//7.2.3.1//EN
TZID:America/Toronto
X-WR-TIMEZONE:America/Toronto
BEGIN:VEVENT
UID:1715@thrc.ca
DTSTART;TZID=America/Toronto:20230517T190000
DTEND;TZID=America/Toronto:20230517T200000
DTSTAMP:20230426T185852Z
URL:https://thrc.ca/events/learning-community-for-all-educators-15/
SUMMARY:Learning Community for All Educators
DESCRIPTION:\n\n\n\nLearning Community for All Educators \n\nMay 17\, 2023
 \n\n\n7:00pm-8:00pm\n\n\n\nWelcome to an interactive session for all age g
 roups of child care professionals.\n\nWhether you are currently working in
  a licensed care setting\, studying\, volunteering or simply curious about
  it\, join in the group for informal discussion including how you incorpor
 ate the foundations of How Does Learning Happen?\n\n&nbsp\;\nIntended Audi
 ence: Licensed Child Care Educators\, EarlyON Educators\, Licensed Home Ch
 ild Care Providers/Home Visitor\n\n\n\nIf this session is full\, e-mail ad
 ministrativeassistant@thrc.ca to be put on the waitlist.\n\n\n\n\nLocation
 :\nCost:\nRegistration Deadline:\n\n\nZoom Meeting\n\n&nbsp\;\nNo Cost\nMa
 y 16\, 2023\nThe Zoom link will be sent to you the day of the session by a
 shleym@thrc.ca\n\n\n
END:VEVENT
BEGIN:VTIMEZONE
TZID:America/Toronto
X-LIC-LOCATION:America/Toronto
BEGIN:DAYLIGHT
DTSTART:20230312T030000
TZOFFSETFROM:-0500
TZOFFSETTO:-0400
TZNAME:EDT
END:DAYLIGHT
END:VTIMEZONE
END:VCALENDAR