BEGIN:VCALENDAR
VERSION:2.0
PRODID:-//wp-events-plugin.com//7.2.3.1//EN
TZID:America/Toronto
X-WR-TIMEZONE:America/Toronto
BEGIN:VEVENT
UID:1903@thrc.ca
DTSTART;TZID=America/Toronto:20241022T113000
DTEND;TZID=America/Toronto:20241022T143000
DTSTAMP:20241021T160201Z
URL:https://thrc.ca/events/leadership-connection-series-formerly-superviso
 rs-connection-promoting-employee-mental-health-in-a-world-fire-2/
SUMMARY:Leadership Connection Series (formerly Supervisors' Connection): Ho
 w and When to Discuss Divisive Issues in the Workplace
DESCRIPTION:\n\n\nLeadership Connection Series (formerly Supervisors' Conne
 ction): How and When to Discuss Divisive Issues in the Workplace\nTuesday\
 , October 22\, 2024\n\n\n11:30am-1:30pm &amp\; 2:00pm-2:30pm (Networking O
 pportunity)\n\n\n\nTHRC welcomes The Bernardi Centre the workplace trainin
 g arm of Bernardi Human Resource Law LLP. We are a group of lawyers\, inve
 stigators\, conflict resolution specialists and HR professionals who missi
 on is to create psychologically safe and healthy workplaces.\n\n&nbsp\;\nI
 t’s gotten harder to have conversations with each other with an increasi
 ng list of topics becoming “taboo”. And when discussions do occur\, th
 ey often breakdown into hostility and personal attacks.\n&nbsp\;\nThis mod
 ule will provide you with the tools to help employees have and mediate dif
 ficult and potentially polarizing conversations and will help cultivate po
 sitive\, inclusive and respectful interactions.\n\n\n\n            
                                                  
   **Lunch will be provided.**\n\n\n\nntended Audience: Licensed Child Car
 e Educators\, School-Age Educators\, EarlyON Educators\, Licensed Home Chi
 ld Care Providers/Home Visitor\, Support Staff\, Managers\, Supervisors\, 
 School Board Educators\nIf this session is full\, email administrativeassi
 stant@thrc.ca to be added to a waitlist\, if a spot becomes available you 
 will be sent an email.\n\n\n\n\nLocation:\nSherwood Community Centre\n6355
  Main Street W\nCommunity Room #1\n\n\nCost: \n$25 each participant if  
 working in licensed child care in Halton\n$35 each participant not working
  in licensed child care in Halton\n\n\nRegistration Deadline: \nOctober 2
 1\, 2024\n\n\n\n\nClick here to view THRC's Cancellation and No Show Proce
 ss
LOCATION:Sherwood Community Centre\, 6355 Main Street West \, Milton \, Can
 ada\, L9T 2Y1\, Canada
X-APPLE-STRUCTURED-LOCATION;VALUE=URI;X-ADDRESS=6355 Main Street West \, Mi
 lton \, Canada\, L9T 2Y1\, Canada;X-APPLE-RADIUS=100;X-TITLE=Sherwood Comm
 unity Centre:geo:0,0
END:VEVENT
BEGIN:VTIMEZONE
TZID:America/Toronto
X-LIC-LOCATION:America/Toronto
BEGIN:DAYLIGHT
DTSTART:20240310T030000
TZOFFSETFROM:-0500
TZOFFSETTO:-0400
TZNAME:EDT
END:DAYLIGHT
END:VTIMEZONE
END:VCALENDAR