BEGIN:VCALENDAR
VERSION:2.0
PRODID:-//wp-events-plugin.com//7.2.3.1//EN
TZID:America/Toronto
X-WR-TIMEZONE:America/Toronto
BEGIN:VEVENT
UID:2004@thrc.ca
DTSTART;TZID=America/Toronto:20250430T093000
DTEND;TZID=America/Toronto:20250430T120000
DTSTAMP:20250429T190320Z
URL:https://thrc.ca/events/leadership-connection-series-difficult-conversa
 tions/
SUMMARY:Supervisors Connection: Difficult Conversations
DESCRIPTION:\n\n\nSupervisors Connection: Difficult Conversations \nWednes
 day\, April 30\, 2025\n\n\n9:30am - 12:00pm\n\n\n\nDifficult conversations
  arise in all areas of life. This workshop explores what\nmakes them chall
 enging\, how we’re wired to respond\, and strategies for\nengaging effec
 tively. Participants will gain skills to navigate these conversations\nwit
 h greater ease and wisdom\, fostering more positive outcomes.\nIn this ses
 sion\, participants will learn about the neurobiology of difficult\nconver
 sations. They will develop an understanding of what contributes to\nescala
 tion and the emotions and behaviours associated with difficult\nconversati
 ons. Participants will learn how to self-regulate before and during\ndiffi
 cult conversations\, as well as learn strategies that help others to self-
 regulate.\nLight refreshments will be provided\nFacilitated by: Dr. Elaine
  Cook\, PhD\, Manager Humanistic Education &amp\; Training\n\n\n\n\nIntend
 ed Audience: Licensed Child Care Educators\, School Age Educators\, Licens
 ed Home Child Care Providers            \nStandards of Practice: Le
 adership and Operational Practices\n\n\n\n\nIf this session is full\, emai
 l administrativeassistant@thrc.ca to be added to a waitlist\, if a spot be
 comes available you will be   an email.\n\n\n\n\nLocation:\nQueen Elizab
 eth Park and Community and Culture Centre\n2302 Bridge Road\, Oakville\n\n
 Multi-Purpose Room 1-2\n\nCost: \nCost $15: Professionals Working in Lice
 nsed Programs in Halton Region\n\nCost $25: Outside Halton Region and/or N
 on Licensed Programs\n\nRegistration Deadline: \nApril 28\, 2025\n\n\n\n\
 nClick here to view THRC's Cancellation and No Show Process
LOCATION:Queen Elizabeth Park Community and Cultural Centre\, 2302 Bridge R
 oad\, Oakville\, Canada\, Canada\, Canada
GEO:43.4051817;-79.7187788
X-APPLE-STRUCTURED-LOCATION;VALUE=URI;X-ADDRESS=2302 Bridge Road\, Oakville
 \, Canada\, Canada\, Canada;X-APPLE-RADIUS=100;X-TITLE=Queen Elizabeth Par
 k Community and Cultural Centre:geo:43.4051817,-79.7187788
END:VEVENT
BEGIN:VTIMEZONE
TZID:America/Toronto
X-LIC-LOCATION:America/Toronto
BEGIN:DAYLIGHT
DTSTART:20250309T030000
TZOFFSETFROM:-0500
TZOFFSETTO:-0400
TZNAME:EDT
END:DAYLIGHT
END:VTIMEZONE
END:VCALENDAR