BEGIN:VCALENDAR
VERSION:2.0
PRODID:-//wp-events-plugin.com//7.2.3.1//EN
TZID:America/Toronto
X-WR-TIMEZONE:America/Toronto
BEGIN:VEVENT
UID:1848@thrc.ca
DTSTART;TZID=America/Toronto:20240423T130000
DTEND;TZID=America/Toronto:20240423T153000
DTSTAMP:20240419T134657Z
URL:https://thrc.ca/events/leadership-connection-series-building-a-culture
 -of-well-being-at-work/
SUMMARY:Leadership Connection Series: Building a Culture of Well Being at W
 ork
DESCRIPTION:\n\n\n\nLeadership Connection Series: Building a Culture of Wel
 l Being at Work \n\nApril 23\, 2024\n\n\n1:00pm-3:00pm - Session with Mich
 ael\n\n3:00pm-3:30pm - Networking Opportunity\n\n\n\n\n\nTHRC is pleased t
 o welcome Michael Prosserman author\, university instructor and profession
 al speaker who specializes in scaling start-ups\, integrating mental well-
 being into team culture\, innovation in fundraising\, and healthy successi
 on of long time leaders.\n\n&nbsp\;\nSupporting employee mental health is 
 a critical factor in increasing retention\, impact and profit. It is also 
 the right thing to do. Mental illness costs $50 billion each year in Canad
 a. In this session\, Michael provides audiences with tons of cheap\, easy 
 and free strategies to make mental health in the workplace approachable\, 
 practical and participatory.\n\n&nbsp\;\nLearn how Michael and his team im
 plemented innovative practices on a minimal budget to build a strong and c
 aring culture empowering employees to take care of their mental health. Th
 is talk is jam-packed with real examples on how to build a strong culture 
 while supporting mental health at work\, beyond policy and beyond just spe
 nding money.\n&nbsp\;\nFacilitated by: Michael Prosserman\, Epic Leadershi
 p CEO and Author\n&nbsp\;\nIntended Audience: Licensed Child Care Educator
 s\, EarlyON Educators\, Licensed Home Child Care Providers/Home Visitors\,
  Supervisors\, Owners\, Managers\, Support Staff\, School Board Staff \n\
 n\n\n\n\nIf this session is full\, e-mail administrativeassistant@thrc.ca 
 to be put on the waitlist.\n\n\nLocation:\nCost:\nRegistration Deadline:\n
 \n\nSherwood Community Centre\n\n6355 Main Street W\, Milton\n\nCommunity 
 Room #1\nCost $10\nApril 22\, 2024\n\n\n\n
LOCATION:Sherwood Community Centre\, 6355 Main Street West \, Milton \, Can
 ada\, L9T 2Y1\, Canada
X-APPLE-STRUCTURED-LOCATION;VALUE=URI;X-ADDRESS=6355 Main Street West \, Mi
 lton \, Canada\, L9T 2Y1\, Canada;X-APPLE-RADIUS=100;X-TITLE=Sherwood Comm
 unity Centre:geo:0,0
END:VEVENT
BEGIN:VTIMEZONE
TZID:America/Toronto
X-LIC-LOCATION:America/Toronto
BEGIN:DAYLIGHT
DTSTART:20240310T030000
TZOFFSETFROM:-0500
TZOFFSETTO:-0400
TZNAME:EDT
END:DAYLIGHT
END:VTIMEZONE
END:VCALENDAR