BEGIN:VCALENDAR
VERSION:2.0
PRODID:-//wp-events-plugin.com//7.2.3.1//EN
TZID:America/Toronto
X-WR-TIMEZONE:America/Toronto
BEGIN:VEVENT
UID:2079@thrc.ca
DTSTART;TZID=America/Toronto:20250828T130000
DTEND;TZID=America/Toronto:20250828T143000
DTSTAMP:20250808T182354Z
URL:https://thrc.ca/events/introduction-to-reflective-practice/
SUMMARY:Introduction to Reflective Practice
DESCRIPTION:\n\n\nIntroduction to Reflective Practice\nThursday\, August 28
 \, 2025\n\n\n1:00pm-2:30pm\n\n\n\n\n\n\n\nReflective practice is essen
 tial to professionalism in early childhood education. As individuals\, it 
 is a necessary means to grow\, develop\, refine\, and evaluate what we do 
 in our work with children and families. Becoming a “reflective practit
 ioner” is a personal and professional journey of developing knowledge\, 
 awareness\, and skills.\n\n&nbsp\;\n\n\n\n\nFacilitated by: THRC Pedagogic
 al Team\n\n\nIntended Audience: Licensed Child Care Educators\, School-Age
  Educators\, EarlyON Educators\, Licensed Home Child Care Providers/Home V
 isitor\, School Board Staff\n\nStandards of Practice: Curriculum &amp\; Pe
 dagogy\n\n\n\nIf this session is full\, email administrativeassistant@thrc
 .ca to be added to a waitlist\, if a spot becomes available you will be se
 nt an email.\n\n\n\n\nLocation:\n\n\nCost: \nNo Cost: Professionals Worki
 ng in Licensed Programs in Halton Region\n\nCost $15: Outside Halton Regio
 n and/or Non Licensed Programs\n\nRegistration Deadline: \nAugust 27\, 20
 25\n\n\n\n\nAn email containing the Zoom link will be sent by administrati
 veassistant@thrc.ca the day before the session. Please check your junk mai
 l folder.\nClick here to view THRC's Cancellation and No Show Process
END:VEVENT
BEGIN:VTIMEZONE
TZID:America/Toronto
X-LIC-LOCATION:America/Toronto
BEGIN:DAYLIGHT
DTSTART:20250309T030000
TZOFFSETFROM:-0500
TZOFFSETTO:-0400
TZNAME:EDT
END:DAYLIGHT
END:VTIMEZONE
END:VCALENDAR