BEGIN:VCALENDAR
VERSION:2.0
PRODID:-//wp-events-plugin.com//7.2.3.1//EN
TZID:America/Toronto
X-WR-TIMEZONE:America/Toronto
BEGIN:VEVENT
UID:2047@thrc.ca
DTSTART;TZID=America/Toronto:20250506T183000
DTEND;TZID=America/Toronto:20250506T193000
DTSTAMP:20250401T134209Z
URL:https://thrc.ca/events/interactive-play-lab-drop-in/
SUMMARY:Interactive Play Lab Drop In
DESCRIPTION:\n\n\nInteractive Play Lab Drop In\nTuesday\, May 6\, 2025\n\n\
 n6:30pm-7:30pm\n\n\n\n\n\n​​THRC invites you to join our monthly inter
 active Play Lab\, held on the 1st Tuesday of each month. It explores share
 d\, playful experiences where play experimentation\, reflection\, expressi
 on and investigating will remind us of the value play can have in our live
 s as humans and educators. \n\n\n\n\nFacilitated by: THRC Staff\n\n\n Int
 ended Audience: Licensed Child Care Educators\, EarlyON Educators\, Licens
 ed Home Child Care Providers/Home Visitors\, Supervisors\, Managers\, Supp
 ort Staff\, School Board Staff \n\nStandards of Practice: Safety\, Health
  &amp\; Well-Being \n\n\n\n\n\n\nLocation:\nThe Halton Resource Connectio
 n (Satellite Location)\nKahuna Co\n5195 Harvester Road\, Unit #16\nBurling
 ton\, ON\n\n\nCost: n/a\n&nbsp\;\n\nDrop In - No Registration Needed \n\n\
 n\n\n
LOCATION:Kahuna Co\, 5195 Harvester Road Unit 16\, Burlington \, Canada\, L
 7L 6E9\, Canada
X-APPLE-STRUCTURED-LOCATION;VALUE=URI;X-ADDRESS=5195 Harvester Road Unit 16
 \, Burlington \, Canada\, L7L 6E9\, Canada;X-APPLE-RADIUS=100;X-TITLE=Kahu
 na Co:geo:0,0
END:VEVENT
BEGIN:VTIMEZONE
TZID:America/Toronto
X-LIC-LOCATION:America/Toronto
BEGIN:DAYLIGHT
DTSTART:20250309T030000
TZOFFSETFROM:-0500
TZOFFSETTO:-0400
TZNAME:EDT
END:DAYLIGHT
END:VTIMEZONE
END:VCALENDAR