BEGIN:VCALENDAR
VERSION:2.0
PRODID:-//wp-events-plugin.com//7.2.3.1//EN
TZID:America/Toronto
X-WR-TIMEZONE:America/Toronto
BEGIN:VEVENT
UID:2101@thrc.ca
DTSTART;TZID=America/Toronto:20251210T190000
DTEND;TZID=America/Toronto:20251210T200000
DTSTAMP:20251209T141412Z
URL:https://thrc.ca/events/inclusive-programming-practical-strategies/
SUMMARY:Inclusive Programming: Practical Strategies
DESCRIPTION:\n\n\nInclusive Programming: Practical Strategies\nWednesday\, 
 December 10\, 2025\n\n\n7:00pm-8:00pm\n\n\n\n\nDesigned for educators seek
 ing to make their programs more inclusive. This session offers actionable 
 tools into everyday planning and delivery. Learn adaptable strategies that
  support diverse learners and foster a culture of inclusion across all are
 as of programming.\nFacilitated by: Muskan Asif\n\n\n\n\n Intended Audienc
 e: Licensed Child Care Educators\, EarlyON Educators\, Licensed Home Child
  Care Providers/Home Visitors\, Supervisors\, Managers\, Support Staff\n\n
 Standards of Practice: Curriculum &amp\; Pedagogy \n\n\n\nIf this session
  is full\, e-mail administrativeassistant@thrc.ca to be put on the waitlis
 t. If a spot becomes available an email will be sent to you.  \n\n\n\n\n
 Location:\n\n\nCost: \nNo Cost: Professionals Working in Licensed Program
 s in Halton Region\n\nCost $25: Outside Halton Region and/or Non Licensed 
 Programs\n\nRegistration Deadline: \nDecember 9\, 2025\n\n\n\n\nAn email 
 containing the Zoom link will be sent by administrativeassistant@thrc.ca t
 he day before the session. Please check your junk mail folder.\nClick here
  to view THRC's Cancellation and No Show Process
END:VEVENT
BEGIN:VTIMEZONE
TZID:America/Toronto
X-LIC-LOCATION:America/Toronto
BEGIN:STANDARD
DTSTART:20251102T010000
TZOFFSETFROM:-0400
TZOFFSETTO:-0500
TZNAME:EST
END:STANDARD
END:VTIMEZONE
END:VCALENDAR