BEGIN:VCALENDAR
VERSION:2.0
PRODID:-//wp-events-plugin.com//7.2.3.1//EN
TZID:America/Toronto
X-WR-TIMEZONE:America/Toronto
BEGIN:VEVENT
UID:1905@thrc.ca
DTSTART;TZID=America/Toronto:20240724T183000
DTEND;TZID=America/Toronto:20240724T193000
DTSTAMP:20240724T184845Z
URL:https://thrc.ca/events/exploring-our-seven-senses-through-nature-play/
SUMMARY:CANCELLED: Exploring Our Seven Senses Through Nature Play
DESCRIPTION:\n\n\nExploring Our Seven Senses Through Nature Play \nWednesd
 ay\, July 24\, 2024\n\n\n6:30pm-8:00pm\n\n\n\nJoin us as we learn about an
 d explore the importance of sensory rich outdoor learning environments. Pa
 rticipants will have an opportunity to tour and explore the Lucy Maud Mont
 gomery Children's Garden for the Senses\, we will learn about the seven se
 nses and their importance and discuss ways to support these ideas in your 
 program.\n\n\n\n      Intended Audience: Licensed Child Care Educators\
 , School Age Educators\, EarlyON Educators\, Licensed Home Child Care Prov
 iders/Home Visitor\, Supervisors\, Support Staff\, School Board Educators\
 n\n\n\nIf this session is full\, email administrativeassistant@thrc.ca to 
 be added to a waitlist\, if a spot becomes available you will be sent an e
 mail.\n\n\n\n\nLocation:\nLucy Maud Montgomery Garden (Located  beside Ge
 orgetown Daycare)\n479 Guelph Street\, North\, Norval\, ON\n\n\nCost: \n\
 n\nRegistration Deadline: \nJuly 19\, 2024\n\n\n\n\nAn email containing t
 he Zoom link will be sent by administrativeassistant@thrc.ca the day befor
 e the session. Please check your junk mail folder.\n&nbsp\;
LOCATION:Lucy Maud Montgomery Garden\, 479 Georgetown Street North \, Norva
 l \, Canada\, L0P 1K0\, Canada
X-APPLE-STRUCTURED-LOCATION;VALUE=URI;X-ADDRESS=479 Georgetown Street North
  \, Norval \, Canada\, L0P 1K0\, Canada;X-APPLE-RADIUS=100;X-TITLE=Lucy Ma
 ud Montgomery Garden:geo:0,0
END:VEVENT
BEGIN:VTIMEZONE
TZID:America/Toronto
X-LIC-LOCATION:America/Toronto
BEGIN:DAYLIGHT
DTSTART:20240310T030000
TZOFFSETFROM:-0500
TZOFFSETTO:-0400
TZNAME:EDT
END:DAYLIGHT
END:VTIMEZONE
END:VCALENDAR