BEGIN:VCALENDAR
VERSION:2.0
PRODID:-//wp-events-plugin.com//7.2.3.1//EN
TZID:America/Toronto
X-WR-TIMEZONE:America/Toronto
BEGIN:VEVENT
UID:2071@thrc.ca
DTSTART;TZID=America/Toronto:20250924T181500
DTEND;TZID=America/Toronto:20250924T201500
DTSTAMP:20250923T140310Z
URL:https://thrc.ca/events/empowering-young-lives-an-introduction-to-devel
 opmental-assets-2/
SUMMARY:CANCELLED - Empowering Young Lives: An Introduction to Developmenta
 l Assets
DESCRIPTION:\n\n\nEmpowering Young Lives: An Introduction to Developmental 
 Assets \nSeptember 24\, 2025\n\n\n6:15pm-8:15pm\n\n\n\n\nDiscover the powe
 r of small\, intentional actions in shaping young people’s growth and su
 ccess through the Developmental Assets Framework. This interactive session
  will provide valuable insights and practical strategies to strengthen you
 r impact.\nDuring this session you will gain:\n\n\n 	A deeper understandin
 g of the 40 Developmental Assets and their significance.\n 	Insight into t
 he strong connection between assets and positive youth development.\n 	Rec
 ognition of the key qualities of influential asset builders in children's 
 lives.\n 	Meaningful ways to nurture strengths and support young people.\n
  	A simple\, actionable step to make a difference every day.\n\nThis sessi
 on is designed for educators\, caregivers\, and professionals committed to
  fostering strong relationships and creating environments where young peop
 le thrive. Join us to connect\, reflect\, and be inspired!\n\n\n&nbsp\;\nF
 acilitated by: THRC Pedagogical Mentors\nStandard of Practice: Standard II
  - Curriculum and Pedagogy\n\n\n\n Intended Audience: Licensed Child Care 
 Educators\, EarlyON Educators\, Licensed Home Child Care Providers/Home Vi
 sitors\, Supervisors\, Managers\, Support Staff\, School Board Staff \n\n
 \n\nIf this session is full\, e-mail administrativeassistant@thrc.ca to be
  put on the waitlist. If a spot becomes available an email will be sent to
  you.  \n\n\n\n\nLocation:\nThe Halton Resource Connection\n410 Bronte S
 treet South\, Milton ON\nTHRC Tiffany Room (Located on the 2nd floor)\n\n\
 nCost: \nNo Cost: Professionals Working in Licensed Programs in Halton Re
 gion\n\nCost $25: Outside Halton Region and/or Non Licensed Programs\n\nRe
 gistration Deadline: \nSeptember 23\, 2025\n\n\n\n\nClick here to view TH
 RC's Cancellation and No Show Process
LOCATION:The Halton Resource Connection\, 410 Bronte St.\, S\, Milton\, Can
 ada
GEO:43.5000363;-79.87680469999998
X-APPLE-STRUCTURED-LOCATION;VALUE=URI;X-ADDRESS=410 Bronte St.\, S\, Milton
 \, Canada;X-APPLE-RADIUS=100;X-TITLE=The Halton Resource Connection:geo:43
 .5000363,-79.87680469999998
END:VEVENT
BEGIN:VTIMEZONE
TZID:America/Toronto
X-LIC-LOCATION:America/Toronto
BEGIN:DAYLIGHT
DTSTART:20250309T030000
TZOFFSETFROM:-0500
TZOFFSETTO:-0400
TZNAME:EDT
END:DAYLIGHT
END:VTIMEZONE
END:VCALENDAR