BEGIN:VCALENDAR
VERSION:2.0
PRODID:-//wp-events-plugin.com//7.2.3.1//EN
TZID:America/Toronto
X-WR-TIMEZONE:America/Toronto
BEGIN:VEVENT
UID:2053@thrc.ca
DTSTART;TZID=America/Toronto:20250605T190000
DTEND;TZID=America/Toronto:20250605T200000
DTSTAMP:20250410T150141Z
URL:https://thrc.ca/events/duty-to-report-4/
SUMMARY:Duty to Report
DESCRIPTION:\n\n\nDuty to Report\nThursday\, June 5\, 2025\n\n\n7:00pm-8:00
 pm\n\n\n\nKeeping the most vulnerable members of our community safe is the
  responsibility of everyone. We all play a role in preventing child abuse 
 and neglect. If you have any reason to believe that a child is in need of 
 protection or is at risk of harm\, make the call to Children’s Aid.\nFac
 ilitated by: Vanessa Box-Jones\, Children's Aid Society \n\n\n\n\nIntende
 d Audience: Licensed Child Care Educators\, School-Age Educators\, EarlyON
  Educators\, Licensed Home Child Care Providers/Home Visitor\, Support Sta
 ff\, School Board Educators\nStandards of Practice: Confidentiality\, Rele
 ase of Information and Duty to Report \n\n\n\n\nIf this session is full\,
  email administrativeassistant@thrc.ca to be added to a waitlist\, if a sp
 ot becomes available you will be sent an email.\n\n\n\n\nLocation:\n\n\nCo
 st: \nNo Cost: Professionals Working in Halton Region\n\nCost $25: Outsid
 e Halton Region\n\nRegistration Deadline: \nJune 3\, 2025\n\n\n\n\nAn ema
 il containing the Zoom link will be sent by administrativeassistant@thrc.c
 a the day before the session. Please check your junk mail folder.\nClick h
 ere to view THRC's Cancellation and No Show Process
END:VEVENT
BEGIN:VTIMEZONE
TZID:America/Toronto
X-LIC-LOCATION:America/Toronto
BEGIN:DAYLIGHT
DTSTART:20250309T030000
TZOFFSETFROM:-0500
TZOFFSETTO:-0400
TZNAME:EDT
END:DAYLIGHT
END:VTIMEZONE
END:VCALENDAR