BEGIN:VCALENDAR
VERSION:2.0
PRODID:-//wp-events-plugin.com//7.2.3.1//EN
TZID:America/Toronto
X-WR-TIMEZONE:America/Toronto
BEGIN:VEVENT
UID:1982@thrc.ca
DTSTART;TZID=America/Toronto:20250123T190000
DTEND;TZID=America/Toronto:20250123T200000
DTSTAMP:20241210T192536Z
URL:https://thrc.ca/events/duty-to-report-3/
SUMMARY:Duty to Report
DESCRIPTION:\n\n\nDuty to Report\nThursday\, January 23\, 2025\n\n\n7:00pm-
 8:00pm\n\n\n\nKeeping the most vulnerable members of our community safe is
  the responsibility of everyone. We all play a role in preventing child ab
 use and neglect. If you have any reason to believe that a child is in need
  of protection or is at risk of harm\, make the call to Children’s Aid.\
 nFacilitated by: Vanessa Box-Jones\, Children's Aid Society \n\n\n\n\nInt
 ended Audience: Licensed Child Care Educators\, School-Age Educators\, Ear
 lyON Educators\, Licensed Home Child Care Providers/Home Visitor\, Support
  Staff\, School Board Educators\nStandards of Practice: Confidentiality\, 
 Release of Information and Duty to Report \n\n\n\n\nIf this session is fu
 ll\, email administrativeassistant@thrc.ca to be added to a waitlist\, if 
 a spot becomes available you will be sent an email.\n\n\n\n\nLocation:\n\n
 \nCost: \nNo Cost: Professionals Working in Halton Region\n\nCost $25: Ou
 tside Halton Region\n\nRegistration Deadline: \nJanuary 20\, 2024\n\n\n\n
 \nAn email containing the Zoom link will be sent by administrativeassistan
 t@thrc.ca the day before the session. Please check your junk mail folder.\
 nClick here to view THRC's Cancellation and No Show Process
END:VEVENT
BEGIN:VTIMEZONE
TZID:America/Toronto
X-LIC-LOCATION:America/Toronto
BEGIN:STANDARD
DTSTART:20241103T010000
TZOFFSETFROM:-0400
TZOFFSETTO:-0500
TZNAME:EST
END:STANDARD
END:VTIMEZONE
END:VCALENDAR