BEGIN:VCALENDAR
VERSION:2.0
PRODID:-//wp-events-plugin.com//7.2.3.1//EN
TZID:America/Toronto
X-WR-TIMEZONE:America/Toronto
BEGIN:VEVENT
UID:1871@thrc.ca
DTSTART;TZID=America/Toronto:20240530T190000
DTEND;TZID=America/Toronto:20240530T200000
DTSTAMP:20240529T140047Z
URL:https://thrc.ca/events/duty-to-report-2/
SUMMARY:Duty to Report
DESCRIPTION:\n\n\nDuty to Report \n\n&nbsp\;\nMay 30\, 2024\n\n\n7:00pm-8:0
 0pm\n\n\n\nKeeping the most vulnerable members of our community safe is th
 e responsibility of everyone. We all play a role in preventing child abuse
  and neglect. If you have any reason to believe that a child is in need of
  protection or is at risk of harm\, make the call to Children’s Aid.\nIn
 tended Audience: Licensed Child Care Educators\, School-Age Educators\, Ea
 rlyON Educators\, Licensed Home Child Care Providers/Home Visitor\, Superv
 isors\, Managers\, Support Staff\, School Board Educators\nFaciliated by: 
 Halton Children's Aid Society\nIf this session is full\, e-mail administra
 tiveassistant@thrc.ca to be put on the waitlist.\n\n\n\n\n\n\nLocation:\nC
 ost:\nRegistration Deadline:\n\n\nZoom Meeting\n\n&nbsp\;\nNo Cost\nMay 28
 \, 2024\nYour Zoom link will be sent by ashleym@thrc.ca on the day of the 
 event\n\n\n\nClick here to view THRC's Cancellation and No Show Process
END:VEVENT
BEGIN:VTIMEZONE
TZID:America/Toronto
X-LIC-LOCATION:America/Toronto
BEGIN:DAYLIGHT
DTSTART:20240310T030000
TZOFFSETFROM:-0500
TZOFFSETTO:-0400
TZNAME:EDT
END:DAYLIGHT
END:VTIMEZONE
END:VCALENDAR