BEGIN:VCALENDAR
VERSION:2.0
PRODID:-//wp-events-plugin.com//7.2.3.1//EN
TZID:America/Toronto
X-WR-TIMEZONE:America/Toronto
BEGIN:VEVENT
UID:1757@thrc.ca
DTSTART;TZID=America/Toronto:20230923T093000
DTEND;TZID=America/Toronto:20230923T150000
DTSTAMP:20230829T195210Z
URL:https://thrc.ca/events/deepening-our-work-with-ontarios-pedagogy-how-d
 oes-learning-happen/
SUMMARY:Deepening Our Work with Ontario's Pedagogy: How Does Learning Happe
 n?
DESCRIPTION:\n\n\nDeepening Our Work with Ontario's Pedagogy: How Does Lear
 ning Happen?\n\n&nbsp\;\nSeptember 23\, 2023\n\n\n9:30am-3:00pm\n\n\n\nTHR
 C is Thrilled to Welcome Back Lorrie Baird to Halton\nLorrie has been acti
 vely working in the early learning field for over 35 years and currently t
 he Executive Director of Pedagogy with Compass Early Learning and Care.\nA
 s a pedagogical leader and professional learning facilitator she believes 
 in engaging educators in reflective practice and ensuring that our work in
  adult learning parallels that which we want to foster with children.\nOur
  work in early learning has one of the greatest impacts on the children\, 
 families and the communities we support. As we move into the 21st century\
 , the kind of care we bring to early education practices matters greatly.\
 nIn this full day session\, we will reflect together on the purpose of ear
 ly education in today’s changing world and the role each of us can play 
 in helping to create a more vibrant\, connected world.\nTogether we will e
 xplore Ontario’s Pedagogy for the Early Years\, “How Does Learning Hap
 pen?” and consider how belonging\, wellbeing\, expression and engagement
  can form the foundation to building a more caring\, equitable and just so
 ciety.\nIntended Audience: Licensed Child Care Educators\, School-Age Educ
 ators\, EarlyON Educators\, Licensed Home Child Care Providers/Home Visito
 r\, Supervisors\, Managers\, Owners\, Operators\, Support Staff\nIf this s
 ession is full\, e-mail administrativeassistant@thrc.ca to be put on the w
 aitlist.\n\n\n\n\n\n\nLocation:\nCost:\nRegistration Deadline:\n\n\nHolida
 y Inn Oakville Centre\n\n590 Argus Road\, Oakville\n\n&nbsp\;\nNo Cost\nSe
 ptember 18\, 2023\n**Please send an email to ashleym@thrc.ca if you have a
 ny food allergies or restrictions.**\n\n\n\nClick here to view THRC's Canc
 ellation and No Show Process
LOCATION:Holiday Inn Oakville Centre\, 590 Argus Road\, Oakville \, Canada\
 , Canada
X-APPLE-STRUCTURED-LOCATION;VALUE=URI;X-ADDRESS=590 Argus Road\, Oakville \
 , Canada\, Canada;X-APPLE-RADIUS=100;X-TITLE=Holiday Inn Oakville Centre:g
 eo:0,0
END:VEVENT
BEGIN:VTIMEZONE
TZID:America/Toronto
X-LIC-LOCATION:America/Toronto
BEGIN:DAYLIGHT
DTSTART:20230312T030000
TZOFFSETFROM:-0500
TZOFFSETTO:-0400
TZNAME:EDT
END:DAYLIGHT
END:VTIMEZONE
END:VCALENDAR