BEGIN:VCALENDAR
VERSION:2.0
PRODID:-//wp-events-plugin.com//7.2.3.1//EN
TZID:America/Toronto
X-WR-TIMEZONE:America/Toronto
BEGIN:VEVENT
UID:1872@thrc.ca
DTSTART;TZID=America/Toronto:20240618T183000
DTEND;TZID=America/Toronto:20240618T193000
DTSTAMP:20240409T181906Z
URL:https://thrc.ca/events/connect-and-reflect-mud-day-2/
SUMMARY:Connect and Reflect: Mud Day
DESCRIPTION:\n\n\nConnect and Reflect - Mud Day \nJune 18\, 2024\n\n\n6:30
 pm-7:30pm\n\n\n\nHow can you introduce mud play?\n\nJoin other Early Learn
 ing and Child Care Professionals to explore how to celebrate Mud Day and
  share your experiences with mud in your program.\n&nbsp\;\n\n\n“Julie 
 Anne put on a clean new shirt and buttoned it up the front. Then she put o
 n clean new pants and buttoned them up the front. Then she had an idea. Sh
 e reached way back in the closet and got a big yellow raincoat. She put it
  on and walked outside. There was no mud puddle anywhere\, so she yelled\,
  “Hey\, Mud Puddle!”‘\n                              
                                                  
 – Robert Munsch (Mud Puddle)\n\n&nbsp\;\nPlease ensure to dress accordin
 gly and be ready for the weather as we will be outside and engaging in an 
 experience with mud. Be ready to get messy.\n\n\nFacilitated by:  Johanna
  Dillerop-Edwards &amp\; Liz Reddy\, Quality First Consultant\nIntended Au
 dience: Licensed Child Care Educators\, School-Age Educators\, EarlyON Edu
 cators\, Licensed Home Child Care Providers/Home Visitor\, Supervisors\, S
 upport Staff\, School Board Educators\nTHRC is a scent reduced space. For 
 the health and safety of everyone\, please help to achieve a scent reduced
  environment and avoid the use of scented products.\nIf this session is fu
 ll\, e-mail administrativeassistant@thrc.ca to be put on the waitlist.\n\n
 \n\n\n\n\nLocation:\nCost:\nRegistration Deadline:\n\n\nMilton Community R
 esource Centre\n\n410 Bronte Street South\, Milton\n\nBronte Street Playgr
 ound\n\n(If there is inclement weather we will meet in the THRC Boardroom)
 \nNo Cost\nJune 13\, 2024\n\n\n\n\nClick here to view THRC's Cancellation 
 and No Show Process
LOCATION:The Halton Resource Connection\, 410 Bronte St.\, S\, Milton\, Can
 ada
GEO:43.5000363;-79.87680469999998
X-APPLE-STRUCTURED-LOCATION;VALUE=URI;X-ADDRESS=410 Bronte St.\, S\, Milton
 \, Canada;X-APPLE-RADIUS=100;X-TITLE=The Halton Resource Connection:geo:43
 .5000363,-79.87680469999998
END:VEVENT
BEGIN:VTIMEZONE
TZID:America/Toronto
X-LIC-LOCATION:America/Toronto
BEGIN:DAYLIGHT
DTSTART:20240310T030000
TZOFFSETFROM:-0500
TZOFFSETTO:-0400
TZNAME:EDT
END:DAYLIGHT
END:VTIMEZONE
END:VCALENDAR