BEGIN:VCALENDAR
VERSION:2.0
PRODID:-//wp-events-plugin.com//7.2.3.1//EN
TZID:America/Toronto
X-WR-TIMEZONE:America/Toronto
BEGIN:VEVENT
UID:1948@thrc.ca
DTSTART;TZID=America/Toronto:20241029T143000
DTEND;TZID=America/Toronto:20241029T160000
DTSTAMP:20240905T165540Z
URL:https://thrc.ca/events/conflict-resolution/
SUMMARY:Turn Conflict Management into your Superpower
DESCRIPTION:\n\n\nTurn Conflict Management into your Superpower\nTuesday\, 
 October 29\, 2024\n\n\n2:30pm-4:00pm\n\n\n\nTHRC is pleased to welcome bac
 k Susannah Margison\, BSc\, JD\, CPC\, ACC\, the conflict strategist and c
 oach who will help you recover from professional and personal setbacks\, r
 ehab your reputation\, lead others\, and resolve conflict.\n\n\n\nA 90-Min
 ute in-person interactive session for leaders and educators to put theory 
 into action. This session will be more focused on helping people overcome 
 their individual experience with conflict and will be perfect for people w
 ho find themselves triggered by interpersonal conflict.\n\nThis session wi
 ll be GAME CHANGING and will include:\n\n 	Conflict approach/STEAR tool re
 fresher with scenarios and interactive discussion\n 	A conflict trigger ne
 utralization demonstration/hot seat coaching session (we'll need a volunte
 er for this one)\n 	Demonstration and practice of skills to help people fe
 el understood when emotions run high with small group practice (we'll use 
 small groups with scenarios on cue cards to practice acknowledging and val
 idating.\n 	A meditation and visualization exercise for the entire group\n
  	A Q+A session at the end\n\n\n\n\nIntended Audience: Licensed Child Care
  Educators\, EarlyON Educators\, Licensed Home Child Care Providers/Home V
 isitors\, Supervisors\, Managers\, Support Staff\n\n\n\nIf this session is
  full\, e-mail administrativeassistant@thrc.ca to be put on the waitlist. 
 If a spot becomes available an email will be sent to you.  \n\n\n\n\nLoc
 ation:\nSixteen Mile Sports Complex\n3070 Neyagawa Blvd\, Oakville\nCommun
 ity Room #1\n\n\nCost: \n\n\nRegistration Deadline: \nOctober 25\, 2024\
 n\n\n\n\n
LOCATION:Sixteen Mile Sports Complex\, 3070 Neyagawa Blvd \, Oakville\, Can
 ada\, L6M 4L6\, Canada
X-APPLE-STRUCTURED-LOCATION;VALUE=URI;X-ADDRESS=3070 Neyagawa Blvd \, Oakvi
 lle\, Canada\, L6M 4L6\, Canada;X-APPLE-RADIUS=100;X-TITLE=Sixteen Mile Sp
 orts Complex:geo:0,0
END:VEVENT
BEGIN:VTIMEZONE
TZID:America/Toronto
X-LIC-LOCATION:America/Toronto
BEGIN:DAYLIGHT
DTSTART:20240310T030000
TZOFFSETFROM:-0500
TZOFFSETTO:-0400
TZNAME:EDT
END:DAYLIGHT
END:VTIMEZONE
END:VCALENDAR