BEGIN:VCALENDAR
VERSION:2.0
PRODID:-//wp-events-plugin.com//7.2.3.1//EN
TZID:America/Toronto
X-WR-TIMEZONE:America/Toronto
BEGIN:VEVENT
UID:1859@thrc.ca
DTSTART;TZID=America/Toronto:20240613T110000
DTEND;TZID=America/Toronto:20240613T120000
DTSTAMP:20240229T162245Z
URL:https://thrc.ca/events/centre-mentors-communities-of-practice-45/
SUMMARY:Centre Mentors' Communities of Practice
DESCRIPTION:\n\n\nCentre Mentors' Communities of Practice\n\n&nbsp\;\nJune 
 13\, 2024\n\n\n11:00am-12:00pm\n\n\n\nThis session provides Centre Mentors
  with opportunities to reflect together\, share successes and experiences
 \, while providing scenarios to practice coaching skills. Each session is 
 unique and will be guided based on discussion by the participants.  \nTo
  attend this session you must have completed the pre-requisite session\, "
 Building Capacity through a Coaching Practice".\nIntended Audience: Licens
 ed Child Care Educators\, School-Age Educators\, Licensed Home Child Care 
 Providers\nIf this session is full\, e-mail administrativeassistant@thrc.c
 a to be put on the waitlist.\n\n\n\n\n\n\nLocation:\nCost:\nRegistration D
 eadline:\n\n\nZoom Meeting\n\n&nbsp\;\nNo Cost\nJune 11\, 2024\nYour Zoom 
 link will be sent by ashleym@thrc.ca the day before the session.\n\nCheck 
 your junk mail for the email as well if you haven't received it in your in
 box.\n\n\n\nClick here to view THRC's Cancellation and No Show Process
CATEGORIES:Prerequisite Required
END:VEVENT
BEGIN:VTIMEZONE
TZID:America/Toronto
X-LIC-LOCATION:America/Toronto
BEGIN:DAYLIGHT
DTSTART:20240310T030000
TZOFFSETFROM:-0500
TZOFFSETTO:-0400
TZNAME:EDT
END:DAYLIGHT
END:VTIMEZONE
END:VCALENDAR