BEGIN:VCALENDAR
VERSION:2.0
PRODID:-//wp-events-plugin.com//7.2.3.1//EN
TZID:America/Toronto
X-WR-TIMEZONE:America/Toronto
BEGIN:VEVENT
UID:1795@thrc.ca
DTSTART;TZID=America/Toronto:20240327T180000
DTEND;TZID=America/Toronto:20240327T190000
DTSTAMP:20240320T193240Z
URL:https://thrc.ca/events/centre-mentors-communities-of-practice-42/
SUMMARY:Centre Mentors' Communities of Practice
DESCRIPTION:\n\n\nCentre Mentors' Communities of Practice\n\n&nbsp\;\nMarch
  27\, 2024\n\n\n6:00pm-7:00pm\n\n\n\nThis session provides Centre Mentors 
 with opportunities to reflect together\, share successes and experiences\
 , while providing scenarios to practice coaching skills. Each session is u
 nique and will be guided based on discussion by the participants.  \nTo 
 attend this session you must have completed the pre-requisite session\, "B
 uilding Capacity through a Coaching Practice".\nIntended Audience: License
 d Child Care Educators\, School-Age Educators\, Licensed Home Child Care P
 roviders\nIf this session is full\, e-mail administrativeassistant@thrc.ca
  to be put on the waitlist.\n\n\n\n\n\n\nLocation:\nCost:\nRegistration De
 adline:\n\n\nOnline via Zoom\nNo Cost\nMarch 25\, 2024\nEmail will be sent
  the day before from ashleym@thrc.ca with the Zoom link\n\n\n\nClick here 
 to view THRC's Cancellation and No Show Process
CATEGORIES:Prerequisite Required
END:VEVENT
BEGIN:VTIMEZONE
TZID:America/Toronto
X-LIC-LOCATION:America/Toronto
BEGIN:DAYLIGHT
DTSTART:20240310T030000
TZOFFSETFROM:-0500
TZOFFSETTO:-0400
TZNAME:EDT
END:DAYLIGHT
END:VTIMEZONE
END:VCALENDAR