BEGIN:VCALENDAR
VERSION:2.0
PRODID:-//wp-events-plugin.com//7.2.3.1//EN
TZID:America/Toronto
X-WR-TIMEZONE:America/Toronto
BEGIN:VEVENT
UID:1793@thrc.ca
DTSTART;TZID=America/Toronto:20240125T190000
DTEND;TZID=America/Toronto:20240125T200000
DTSTAMP:20231215T163027Z
URL:https://thrc.ca/events/centre-mentors-communities-of-practice-40/
SUMMARY:Centre Mentors' Communities of Practice
DESCRIPTION:\n\n\nCentre Mentors' Communities of Practice\n\n&nbsp\;\nJanua
 ry 25\, 2024\n\n\n7:00pm-8:00pm\n\n\n\nThis session provides Centre Mentor
 s with opportunities to reflect together\, share successes and experience
 s\, while providing scenarios to practice coaching skills. Each session is
  unique and will be guided based on discussion by the participants.  \nT
 o attend this session you must have completed the pre-requisite session\, 
 "Building Capacity through a Coaching Practice".\nFacilitated by: Liz Redd
 y\, Quality First Consultant\nIntended Audience: Licensed Child Care Educa
 tors\, School-Age Educators\, Licensed Home Child Care Providers\nIf this 
 session is full\, e-mail administrativeassistant@thrc.ca to be put on the 
 waitlist.\n\n\n\n\n\n\nLocation:\nCost:\nRegistration Deadline:\n\n\nZoom 
 Meeting\n\n&nbsp\;\nNo Cost\nJanuary 23\, 2024\nYour Zoom link will be sen
 t by ashleym@thrc.ca on the day of the event\n\n\n\nClick here to view THR
 C's Cancellation and No Show Process
CATEGORIES:Prerequisite Required
END:VEVENT
BEGIN:VTIMEZONE
TZID:America/Toronto
X-LIC-LOCATION:America/Toronto
BEGIN:STANDARD
DTSTART:20231105T010000
TZOFFSETFROM:-0400
TZOFFSETTO:-0500
TZNAME:EST
END:STANDARD
END:VTIMEZONE
END:VCALENDAR