BEGIN:VCALENDAR
VERSION:2.0
PRODID:-//wp-events-plugin.com//7.2.3.1//EN
TZID:America/Toronto
X-WR-TIMEZONE:America/Toronto
BEGIN:VEVENT
UID:1988@thrc.ca
DTSTART;TZID=America/Toronto:20250225T190000
DTEND;TZID=America/Toronto:20250225T203000
DTSTAMP:20250204T145619Z
URL:https://thrc.ca/events/caring-and-responsive-relationships/
SUMMARY:Caring and Responsive Relationships
DESCRIPTION:\n\n\nCaring and Responsive Relationships\nTuesday\, February 2
 5\, 2025\n\n\n7:00pm-8:30pm\n\n\nExplore the power of caring and responsiv
 e relationships with children. This session dives into the importance of c
 reating meaningful connections and how responsive interactions strengthen 
 nurture and inspire growth.\nFacilitated by: THRC Pedagogical Team\n\n\n\n
 \nIntended Audience: Licensed Child Care Educators\, School-Age Educators\
 , EarlyON Educators\, Licensed Home Child Care Providers/Home Visitor\, Su
 pport Staff\, School Board Educators     \nStandards of Practice: Carin
 g and Responsive Relationships \n\n\n\n\nIf this session is full\, email 
 administrativeassistant@thrc.ca to be added to a waitlist\, if a spot beco
 mes available you will be sent an email.\n\n\n\n\nLocation:\n\n\nCost: \n
 No Cost: Professional Working in Licensed Programs in Halton Region\n\nCos
 t $25: Outside Halton Region and/or Non Licensed Programs\n\nRegistration 
 Deadline: \nFebruary 21\, 2025\n\n\n\n\nAn email containing the Zoom link
  will be sent by administrativeassistant@thrc.ca the day before the sessio
 n. Please check your junk mail folder.\nClick here to view THRC's Cancella
 tion and No Show Process
END:VEVENT
BEGIN:VTIMEZONE
TZID:America/Toronto
X-LIC-LOCATION:America/Toronto
BEGIN:STANDARD
DTSTART:20241103T010000
TZOFFSETFROM:-0400
TZOFFSETTO:-0500
TZNAME:EST
END:STANDARD
END:VTIMEZONE
END:VCALENDAR