BEGIN:VCALENDAR
VERSION:2.0
PRODID:-//wp-events-plugin.com//7.2.3.1//EN
TZID:America/Toronto
X-WR-TIMEZONE:America/Toronto
BEGIN:VEVENT
UID:1991@thrc.ca
DTSTART;TZID=America/Toronto:20250304T184500
DTEND;TZID=America/Toronto:20250304T201500
DTSTAMP:20250204T150718Z
URL:https://thrc.ca/events/building-capacity-through-a-coaching-practice-8
 /
SUMMARY:Building Capacity through a Coaching Practice
DESCRIPTION:\n\n\nBuilding Capacity through a Coaching Practice\nTuesday\, 
 March 4\, 2024\n\n\n6:45pm-8:15pm\n\n\n\nThis session explores adult learn
 ing principles and using coaching in your practice to foster growth\, deve
 lopment and empowerment with individuals or teams.\nFacilitated by: THRC P
 edagogical Team\n\n\n\n\nIntended Audience: Licensed Child Care Educators\
 , School Age Educators\, Licensed Home Child Care Providers     \nStand
 ards of Practice: Curriculum &amp\; Pedagogy       \n\n\n\n\nIf this s
 ession is full\, email administrativeassistant@thrc.ca to be added to a wa
 itlist\, if a spot becomes available you will be sent an email.\n\n\n\n\nL
 ocation:\n\n\nCost: \nNo Cost: Professional Working in Licensed Programs 
 in Halton Region\n\nCost $25: Outside Halton Region and/or Non Licensed Pr
 ograms\n\nRegistration Deadline: \nMarch 3\, 2024\n\n\n\n\nAn email conta
 ining the Zoom link will be sent by administrativeassistant@thrc.ca the da
 y before the session. Please check your junk mail folder.\nClick here to v
 iew THRC's Cancellation and No Show Process
END:VEVENT
BEGIN:VTIMEZONE
TZID:America/Toronto
X-LIC-LOCATION:America/Toronto
BEGIN:STANDARD
DTSTART:20241103T010000
TZOFFSETFROM:-0400
TZOFFSETTO:-0500
TZNAME:EST
END:STANDARD
END:VTIMEZONE
END:VCALENDAR