BEGIN:VCALENDAR
VERSION:2.0
PRODID:-//wp-events-plugin.com//7.2.3.1//EN
TZID:America/Toronto
X-WR-TIMEZONE:America/Toronto
BEGIN:VEVENT
UID:1852@thrc.ca
DTSTART;TZID=America/Toronto:20240509T110000
DTEND;TZID=America/Toronto:20240509T123000
DTSTAMP:20240312T182007Z
URL:https://thrc.ca/events/building-capacity-through-a-coaching-practice-3
 7/
SUMMARY:Building Capacity through a Coaching Practice
DESCRIPTION:\n\n\nBuilding Capacity through a Coaching Practice \n\n&nbsp\;
 \n\n&nbsp\;\nMay 9\, 2024\n\n\n11:00am-12:30pm\n\n\n\nThis session explore
 s Adult Learning Principles and the use of a coaching approach and how it 
 can support Centre Mentors.\nFacilitated by: Quality First Consultant\nInt
 ended Audience: Licensed Child Care Educators\, School Age Educators\, Lic
 ensed Home Child Care Providers\nIf this session is full\, e-mail administ
 rativeassistant@thrc.ca to be put on the waitlist.\n\n\n\n\n\n\nLocation:\
 nCost:\nRegistration Deadline:\n\n\nZoom Meeting\n\n&nbsp\;\nNo Cost\nMay 
 3\, 2024\nYour Zoom link will be sent by ashleym@thrca.ca on the day befor
 e the session.\n\nCheck your junk mail for the email as well if you haven'
 t received it in your inbox.\n\n\n
END:VEVENT
BEGIN:VTIMEZONE
TZID:America/Toronto
X-LIC-LOCATION:America/Toronto
BEGIN:DAYLIGHT
DTSTART:20240310T030000
TZOFFSETFROM:-0500
TZOFFSETTO:-0400
TZNAME:EDT
END:DAYLIGHT
END:VTIMEZONE
END:VCALENDAR