BEGIN:VCALENDAR
VERSION:2.0
PRODID:-//wp-events-plugin.com//7.2.3.1//EN
TZID:America/Toronto
X-WR-TIMEZONE:America/Toronto
BEGIN:VEVENT
UID:1797@thrc.ca
DTSTART;TZID=America/Toronto:20240208T183000
DTEND;TZID=America/Toronto:20240208T200000
DTSTAMP:20240206T145606Z
URL:https://thrc.ca/events/building-capacity-through-a-coaching-practice-3
 4/
SUMMARY:Building Capacity through a Coaching Practice
DESCRIPTION:\n\n\nBuilding Capacity through a Coaching Practice \n\n&nbsp\;
 \n\n&nbsp\;\nFebruary 8\, 2024\n\n\n6:30pm-8:00pm\n\n\n\nThis session expl
 ores adult learning principles and the use of a coaching approach and h
 ow it can support Centre Mentors.\nFaciliated by: Johanna Dillerop-Edward
 s &amp\; Zenab Karimjee\, Quality First Consultants\nIntended Audience: Li
 censed Child Care Educators\, School Age Educators\, Licensed Home Child C
 are Providers\nIf this session is full\, e-mail administrativeassistant@th
 rc.ca to be put on the waitlist.\n\n\n\n\n\n\nLocation:\nCost:\nRegistrati
 on Deadline:\n\n\nZoom Meeting\n\n&nbsp\;\nNo Cost\nFebruary 5\, 2024\nYou
 r Zoom link will be sent by ashleym@thrca.ca on the day of the event\n\n\n
END:VEVENT
BEGIN:VTIMEZONE
TZID:America/Toronto
X-LIC-LOCATION:America/Toronto
BEGIN:STANDARD
DTSTART:20231105T010000
TZOFFSETFROM:-0400
TZOFFSETTO:-0500
TZNAME:EST
END:STANDARD
END:VTIMEZONE
END:VCALENDAR