BEGIN:VCALENDAR
VERSION:2.0
PRODID:-//wp-events-plugin.com//7.2.3.1//EN
TZID:America/Toronto
X-WR-TIMEZONE:America/Toronto
BEGIN:VEVENT
UID:1739@thrc.ca
DTSTART;TZID=America/Toronto:20230705T100000
DTEND;TZID=America/Toronto:20230705T113000
DTSTAMP:20230615T232034Z
URL:https://thrc.ca/events/building-capacity-through-a-coaching-practice-2
 8/
SUMMARY:Building Capacity through a Coaching Practice
DESCRIPTION:\n\n\nBuilding Capacity through a Coaching Practice\nJuly 5\, 2
 023\n\n\n10:00am-11:30am\n\n\n\nThis session explores adult learning prin
 ciples and the use of a coaching approach and how it can support Centre
  Mentors.\nFacilitated by: Amy Wilson &amp\; Lisa Loblaw\, Quality First C
 onsultants \nIf this session is full\, e-mail administrativeassistant@thr
 c.ca to be put on the waitlist.\n\n\n\n\n\n\nLocation:\nCost:\nRegistratio
 n Deadline:\n\n\nZoom Meeting\nQuality First Participant: No Cost\n\nNon-Q
 uality First Participant: $10\nJuly 4\, 2023\nYour Zoom link will be sent 
 by ashleym@thrc.ca the day before the session\n\n\n
END:VEVENT
BEGIN:VTIMEZONE
TZID:America/Toronto
X-LIC-LOCATION:America/Toronto
BEGIN:DAYLIGHT
DTSTART:20230312T030000
TZOFFSETFROM:-0500
TZOFFSETTO:-0400
TZNAME:EDT
END:DAYLIGHT
END:VTIMEZONE
END:VCALENDAR