BEGIN:VCALENDAR
VERSION:2.0
PRODID:-//wp-events-plugin.com//7.2.3.1//EN
TZID:America/Toronto
X-WR-TIMEZONE:America/Toronto
BEGIN:VEVENT
UID:1682@thrc.ca
DTSTART;TZID=America/Toronto:20230320T183000
DTEND;TZID=America/Toronto:20230320T200000
DTSTAMP:20230223T191920Z
URL:https://thrc.ca/events/board-governance-essentials-non-profit-board-pr
 imer/
SUMMARY:Board Governance Essentials: Non-Profit Board Primer
DESCRIPTION:\n\n\n\nBoard Governance Essentials: Non-Profit Board Primer\n&
 nbsp\;\nMarch 20\, 2023\n\n\n6:30pm-8:00pm\n\n\n\nBoard members set direct
 ion and provide the vision\, leadership\, and accountability to ensure the
 ir organization's mandate is met.\n\nThis session is designed for new Boar
 d members and covers the purpose of boards\, what they do and don't do\, l
 egal obligations\, liability\, and fiduciary duty.\n\nIf this session is f
 ull\, e-mail administrativeassistant@thrc.ca to be put on the waitlist.\n\
 n\n\n\n\n\nLocation:\nCost:\nRegistration Deadline:\n\n\nZoom Meeting\n\n&
 nbsp\;\nNo Cost\nMarch 17\, 2022\nYour Zoom link will be sent the day of t
 he event from ashleym@thrc.ca. Please check your junk mail as well.\n\n\n
END:VEVENT
BEGIN:VTIMEZONE
TZID:America/Toronto
X-LIC-LOCATION:America/Toronto
BEGIN:DAYLIGHT
DTSTART:20230312T030000
TZOFFSETFROM:-0500
TZOFFSETTO:-0400
TZNAME:EDT
END:DAYLIGHT
END:VTIMEZONE
END:VCALENDAR