BEGIN:VCALENDAR
VERSION:2.0
PRODID:-//wp-events-plugin.com//7.2.3.1//EN
TZID:America/Toronto
X-WR-TIMEZONE:America/Toronto
BEGIN:VEVENT
UID:1931@thrc.ca
DTSTART;TZID=America/Toronto:20241105T180000
DTEND;TZID=America/Toronto:20241105T190000
DTSTAMP:20240821T200722Z
URL:https://thrc.ca/events/board-governance-essentials-holding-productive-
 and-compliant-meetings-3/
SUMMARY:Board Governance Essentials: Holding Productive and Compliant Meeti
 ngs
DESCRIPTION:\n\n\nBoard Governance Essentials: Holding Productive and Compl
 iant Meetings \nTuesday\, November 5\, 2024\n\n\n6:00pm-7:00pm\n\n\n\nMeet
 ings are a place to give and get information\, to solve problems\, and res
 olve conflicts. In this workshop\, learn how to hold effective meetings\, 
 learn how to build strategic agendas\, and appreciate the role of bylaws a
 nd policies as part of holding productive and compliant meetings.\n\n\nFac
 iliated by: Heather Elaine Johnson\, Volunteer Halton\n\n\n          
                                              Intend
 ed Audience: Board of Directors \n\n\n\nIf this session is full\, e-mail 
 administrativeassistant@thrc.ca to be put on the waitlist. If a spot becom
 es available an email will be sent to you.  \n\n\n\n\nLocation:\n\n\nCos
 t: \n\n\nRegistration Deadline: \nNovember 1\, 2024\n\n\n\n\nAn email co
 ntaining the Zoom link will be sent by administrativeassistant@thrc.ca the
  day before the session. Please check your junk mail folder.
END:VEVENT
BEGIN:VTIMEZONE
TZID:America/Toronto
X-LIC-LOCATION:America/Toronto
BEGIN:STANDARD
DTSTART:20241103T010000
TZOFFSETFROM:-0400
TZOFFSETTO:-0500
TZNAME:EST
END:STANDARD
END:VTIMEZONE
END:VCALENDAR